BEGIN:VCALENDAR
VERSION:2.0
PRODID:-//wp-events-plugin.com//7.2.3.1//EN
TZID:America/New_York
X-WR-TIMEZONE:America/New_York
BEGIN:VEVENT
UID:677@breatheatlanta.us
DTSTART;TZID=America/New_York:20241025T120000
DTEND;TZID=America/New_York:20241027T160000
DTSTAMP:20241018T120712Z
URL:https://breatheatlanta.us/events/shaocon/
SUMMARY:ShaoCon!
DESCRIPTION:Welcome to ShaoCon\, an exhilarating celebration that combines 
 the thrill of an Esports Tournament with the vibrant atmosphere of a Colle
 ge and Job Fair\, a Creative Expo\, and a Halloween Pop Culture Convention
 . This dynamic event highlights the rich tapestry of gamer and maker cultu
 re in Atlanta\, emphasizing inclusivity and creativity.\n\nAttendees can l
 ook forward to a weekend brimming with excitement\, featuring engaging gam
 es\, educational opportunities\, cosplay\, networking\, shopping\, and a p
 lethora of amazing experiences. Whether you're a seasoned professional or 
 just starting your creative journey\, ShaoCon promises something for every
 one.\n\nThis is a unique chance to connect with fellow professionals\, cre
 atives\, and innovators while immersing yourself in a world where creativi
 ty knows no bounds. The convention will showcase a Fantastic Film Festival
 \, where attendees can enjoy captivating films\, and the Heroes &amp\; Vil
 lains Artsibition\, presenting an array of artistic submissions. Additiona
 lly\, the Performance Showcase will feature up-and-coming music artists\, 
 ensuring a lively atmosphere throughout the weekend.\n\nAttendees will als
 o have the opportunity to meet iconic groups like the 501st Legion and Sab
 er Guild\, who will be showcasing their lightsaber skills. Cosplayers from
  all over the country will gather\, and the event will include appearances
  by voice actors\, directors\, music artists\, authors\, illustrators\, an
 imators\, cinematographers\, sound designers\, storyboardists\, casting di
 rectors\, game developers\, streamers\, and content creators\, making this
  a truly diverse event.\n\nImagine an event that blends the excitement of 
 Enter the Dragon\, the intensity of Cobra Kai\, and the adventurous spirit
  of Big Trouble in Little China\, all taking place at the Century Center M
 arriott in Atlanta over Halloween weekend.\n\nJoin us from October 25th to
  October 27th at the Century Center Marriott NE near Emory\, conveniently 
 located just off I-85 and Clairmont Road. Prepare to be Motivated\, Educat
 ed\, and Empowered as you step into a realm of creativity and entertainmen
 t.\n\nMark your calendars for this unforgettable experience at ShaoCon!\n\
 nGET TICKETS\n
ATTACH;FMTTYPE=image/jpeg:https://breatheatlanta.us/wp-content/uploads/202
 4/10/ShaoCon.jpg
CATEGORIES:Things To Do
LOCATION:2000 Century Blvd NE\, 2000 Century Boulevard Northeast Atlanta\, 
 Atlanta\, Georgia\, 30345\,  GA\, United States
X-APPLE-STRUCTURED-LOCATION;VALUE=URI;X-ADDRESS=2000 Century Boulevard Nort
 heast Atlanta\, Atlanta\, Georgia\, 30345\,  GA\, United States;X-APPLE-RA
 DIUS=100;X-TITLE=2000 Century Blvd NE:geo:0,0
END:VEVENT
BEGIN:VTIMEZONE
TZID:America/New_York
X-LIC-LOCATION:America/New_York
BEGIN:DAYLIGHT
DTSTART:20240310T030000
TZOFFSETFROM:-0500
TZOFFSETTO:-0400
TZNAME:EDT
END:DAYLIGHT
END:VTIMEZONE
END:VCALENDAR