BEGIN:VCALENDAR
VERSION:2.0
PRODID:-//wp-events-plugin.com//7.2.3.1//EN
TZID:America/New_York
X-WR-TIMEZONE:America/New_York
BEGIN:VEVENT
UID:673@breatheatlanta.us
DTSTART;TZID=America/New_York:20241025T190000
DTEND;TZID=America/New_York:20241025T210000
DTSTAMP:20241018T113810Z
URL:https://breatheatlanta.us/events/shes-social-atlanta-halloween-sip-and
 -paint/
SUMMARY:She’s Social Atlanta Halloween Sip and Paint
DESCRIPTION:She’s Social Atlanta invites participants to an enchanting Ha
 lloween Sip and Paint event at Midtown Sip and Paint! This lively gatherin
 g promises a delightful evening filled with creativity\, laughter\, and a 
 touch of spookiness. Attendees can immerse themselves in the Halloween spi
 rit by crafting their own artistic masterpieces while enjoying their favor
 ite beverages.\n\nNo prior painting experience is required\, as skilled in
 structors will be on hand to guide participants through each step of the p
 ainting process\, ensuring that everyone feels confident and inspired. To 
 add to the festive atmosphere\, guests are encouraged to wear their best H
 alloween costumes\, with a chance to win exciting prizes for the most crea
 tive outfits!\n\nThis event is perfect for gathering friends and family fo
 r a memorable night out. Guests will be treated to a delectable charcuteri
 e spread\, along with two glasses of wine or two beers\, plus unlimited co
 cktails throughout the evening.\n\nDon't miss out on this fang-tastic oppo
 rtunity to unleash your creativity and enjoy a spirited celebration with o
 thers. Reserve your spot today and prepare for a night of artistic fun and
  festive cheer at the She’s Social Atlanta Halloween Sip and Paint!\n\nG
 ET TICKETS\n
ATTACH;FMTTYPE=image/jpeg:https://breatheatlanta.us/wp-content/uploads/202
 4/10/Shes-Social-Atlanta-Halloween-Sip-and-Paint.jpg
CATEGORIES:Things To Do
LOCATION:Midtown Sip and Paint\, 1531 Howell Mill Road Northwest #STE A Atl
 anta\, Atlanta\, Georgia\, 30318\,  GA\, United States
X-APPLE-STRUCTURED-LOCATION;VALUE=URI;X-ADDRESS=1531 Howell Mill Road North
 west #STE A Atlanta\, Atlanta\, Georgia\, 30318\,  GA\, United States;X-AP
 PLE-RADIUS=100;X-TITLE=Midtown Sip and Paint:geo:0,0
END:VEVENT
BEGIN:VTIMEZONE
TZID:America/New_York
X-LIC-LOCATION:America/New_York
BEGIN:DAYLIGHT
DTSTART:20240310T030000
TZOFFSETFROM:-0500
TZOFFSETTO:-0400
TZNAME:EDT
END:DAYLIGHT
END:VTIMEZONE
END:VCALENDAR