BEGIN:VCALENDAR
VERSION:2.0
PRODID:-//wp-events-plugin.com//7.2.3.1//EN
TZID:America/New_York
X-WR-TIMEZONE:America/New_York
BEGIN:VEVENT
UID:406@breatheatlanta.us
DTSTART;TZID=America/New_York:20240817T100000
DTEND;TZID=America/New_York:20240817T120000
DTSTAMP:20240802T165255Z
URL:https://breatheatlanta.us/events/shoot-the-hooch/
SUMMARY:Shoot the Hooch
DESCRIPTION:Experience the perfect blend of excitement and serenity with ou
 r "Shoot the Hooch" event. Connect with nature\, have fun\, and create las
 ting memories with friends and family on this unforgettable tubing journey
  down the Chattahoochee River.\n\nEvent Details:\n\n 	Cost: $35 per person
 \n 	What's Included:\n\n 	Tube rental for one person\n 	Shuttle ride\n 	Pe
 rsonal flotation device (PFD)\n\n\n\nTrip Information:\n\n 	Route: Johnson
  Ferry to Powers Island\n 	Distance: 4 miles (1.5-mile tubing stretch)\n 	
 Duration: Approximately 2-4 hours\, depending on water flow and paddling\n
 \nImportant Information:\n\n 	Age Requirement: Participants must be at lea
 st 8 years old.\n 	Supervision: Minors (17 and under) must be accompanied 
 by an adult. There must be one adult for every youth under 11.\n 	National
  Park Service Fee: $5 per vehicle access fee.\n\nCheck-In and Shuttle Sche
 dule:\n\n 	Prior to Memorial Day Weekend: Check-in at NOC’s Powers Islan
 d Outpost. Shuttle to the put-in at Johnson Ferry.\n 	Memorial Day to Labo
 r Day Weekdays: Check-in at NOC’s Powers Island Outpost. Shuttle to the 
 put-in at Johnson Ferry.\n 	Memorial Day to Labor Day Weekends &amp\; Holi
 days: Check-in at NOC’s Johnson Ferry Outpost. Shuttle from the take-out
  back to your car at the put-in. Last shuttle is at 5:30 PM.\n 	After Labo
 r Day: Check-in at NOC’s Powers Island Outpost. Shuttle to the put-in at
  Johnson Ferry.\n\nAdditional Notes:\n\n 	Check-In Time: Please check in 3
 0 minutes prior to the time listed on your confirmation.\n 	Location Varia
 tions: Note the different check-in locations based on the time of year.\n\
 nJoin Us: Embark on this exciting tubing adventure with Paradise + Vibe an
 d enjoy the beauty of the Chattahoochee River. Whether you're seeking a fu
 n outing with friends\, family\, or a solo escape into nature\, this event
  promises a memorable experience. Book your spot now and get ready to "Sho
 ot the Hooch"!\n\nGET TICKETS\n
ATTACH;FMTTYPE=image/jpeg:https://breatheatlanta.us/wp-content/uploads/202
 4/08/Shoot-the-Hooch.jpg
CATEGORIES:Mindfulness Events,Nature Events,Things To Do
LOCATION:Don White Memorial Park\, 925(B) Riverside Road Roswell\, Atlanta\
 , Georgia\, 30075\, GA\, United States
X-APPLE-STRUCTURED-LOCATION;VALUE=URI;X-ADDRESS=925(B) Riverside Road Roswe
 ll\, Atlanta\, Georgia\, 30075\, GA\, United States;X-APPLE-RADIUS=100;X-T
 ITLE=Don White Memorial Park:geo:0,0
END:VEVENT
BEGIN:VTIMEZONE
TZID:America/New_York
X-LIC-LOCATION:America/New_York
BEGIN:DAYLIGHT
DTSTART:20240310T030000
TZOFFSETFROM:-0500
TZOFFSETTO:-0400
TZNAME:EDT
END:DAYLIGHT
END:VTIMEZONE
END:VCALENDAR