BEGIN:VCALENDAR
VERSION:2.0
PRODID:-//wp-events-plugin.com//7.2.3.1//EN
TZID:America/New_York
X-WR-TIMEZONE:America/New_York
BEGIN:VEVENT
UID:578@breatheatlanta.us
DTSTART;TZID=America/New_York:20241027T120000
DTEND;TZID=America/New_York:20241027T140000
DTSTAMP:20241009T123212Z
URL:https://breatheatlanta.us/events/sip-and-flow-with-tenisha-camille/
SUMMARY:Sip and Flow with Tenisha Camille
DESCRIPTION:Attention\, yoga enthusiasts! Tenisha Camille invites participa
 nts to a serene afternoon of yoga paired with delightful wine. This unique
  event promises a blend of relaxation and enjoyment as attendees flow thro
 ugh yoga poses while sipping on their favorite beverages.\n\nTenisha empha
 sizes the importance of bringing your own yoga mat to fully engage in the 
 session. Additionally\, guests are encouraged to BYOW—Bring Your Own Win
 e—to enhance their experience.\n\nThis event is perfect for those lookin
 g to unwind\, connect with fellow yogis\, and enjoy a leisurely afternoon 
 of mindfulness and movement. Tenisha looks forward to seeing everyone soon
  for this special gathering of relaxation and community!\n\nGET TICKETS\n
ATTACH;FMTTYPE=image/jpeg:https://breatheatlanta.us/wp-content/uploads/202
 4/10/Sip-and-Flow-with-Tenisha-Camille.jpeg
CATEGORIES:Wellness Events
LOCATION:My Milk And Money\, 895 Flat Shoals Road Southeast #Suites B-C Con
 yers\, #Suites B-C Conyers\, California\, 30094\, CA\, United States
X-APPLE-STRUCTURED-LOCATION;VALUE=URI;X-ADDRESS=895 Flat Shoals Road Southe
 ast #Suites B-C Conyers\, #Suites B-C Conyers\, California\, 30094\, CA\, 
 United States;X-APPLE-RADIUS=100;X-TITLE=My Milk And Money:geo:0,0
END:VEVENT
BEGIN:VTIMEZONE
TZID:America/New_York
X-LIC-LOCATION:America/New_York
BEGIN:DAYLIGHT
DTSTART:20240310T030000
TZOFFSETFROM:-0500
TZOFFSETTO:-0400
TZNAME:EDT
END:DAYLIGHT
END:VTIMEZONE
END:VCALENDAR