BEGIN:VCALENDAR
VERSION:2.0
PRODID:-//wp-events-plugin.com//7.2.3.1//EN
TZID:America/New_York
X-WR-TIMEZONE:America/New_York
BEGIN:VEVENT
UID:808@breatheatlanta.us
DTSTART;TZID=America/New_York:20250308T233000
DTEND;TZID=America/New_York:20250309T030000
DTSTAMP:20250222T062716Z
URL:https://breatheatlanta.us/events/sip-n-skate-at-cascade-skating/
SUMMARY:Sip 'n Skate at Cascade Skating
DESCRIPTION:Sip 'n Skate at Cascade Skating – A Saturday Night Experience
 \nEvery Saturday night\, Cascade Skating invites adults aged 21 and over t
 o an exciting and vibrant event known as Sip 'n Skate. This unique gatheri
 ng offers a lively atmosphere where guests can enjoy their favorite drinks
  while gliding across the roller rink.\nThe event is exclusively for adult
 s\, ensuring a sophisticated and fun night out. Admission is priced at $12
 \, with skate rentals available for an additional $5.\nLocated in the hear
 t of Atlanta\, Georgia\, this event has become a popular choice for those 
 looking to mix socializing\, skating\, and sipping in one enjoyable evenin
 g. Whether you're a seasoned skater or just looking to have some fun\, Sip
  'n Skate at Cascade Skating provides the perfect setting.\nTags and Theme
 s:\n\n\n 	United States Events\n 	Georgia Events\n 	Things to do in Atlant
 a\, GA\n 	Atlanta Parties\n 	Atlanta Sports &amp\; Fitness Parties\n 	#dri
 nks #event #skating #skate #cascade #adults_activities #adults_only #sipns
 kate\n\nFor those seeking a dynamic Saturday night out in Atlanta\, Sip 'n
  Skate at Cascade Skating promises a memorable experience of music\, motio
 n\, and mingling.\n\n\nGET TICKETS\n
ATTACH;FMTTYPE=image/jpeg:https://breatheatlanta.us/wp-content/uploads/202
 5/02/Sip-n-Skate-at-Cascade-Skating.avif
CATEGORIES:Sports &amp; Fitness Events
LOCATION:Cascade Family Skating\, 3335 Martin Luther King Junior Drive Sout
 hwest \, Atlanta\, 30331\, GA\, United States
X-APPLE-STRUCTURED-LOCATION;VALUE=URI;X-ADDRESS=3335 Martin Luther King Jun
 ior Drive Southwest \, Atlanta\, 30331\, GA\, United States;X-APPLE-RADIUS
 =100;X-TITLE=Cascade Family Skating:geo:0,0
END:VEVENT
BEGIN:VTIMEZONE
TZID:America/New_York
X-LIC-LOCATION:America/New_York
BEGIN:STANDARD
DTSTART:20241103T010000
TZOFFSETFROM:-0400
TZOFFSETTO:-0500
TZNAME:EST
END:STANDARD
BEGIN:DAYLIGHT
DTSTART:20250309T030000
TZOFFSETFROM:-0500
TZOFFSETTO:-0400
TZNAME:EDT
END:DAYLIGHT
END:VTIMEZONE
END:VCALENDAR