BEGIN:VCALENDAR
VERSION:2.0
PRODID:-//wp-events-plugin.com//7.2.3.1//EN
TZID:America/New_York
X-WR-TIMEZONE:America/New_York
BEGIN:VEVENT
UID:532@breatheatlanta.us
DTSTART;TZID=America/New_York:20241017T173000
DTEND;TZID=America/New_York:20241017T190000
DTSTAMP:20240930T123532Z
URL:https://breatheatlanta.us/events/sip-say-om/
SUMMARY:Sip & Say Om
DESCRIPTION:Welcome to Sip &amp\; Say Om\, an evening of tranquility and re
 newal hosted at The Rest Spot. This relaxing event invites women to unwind
  and de-stress with a soothing glass of wine or herbal tea while engaging 
 in calming breathwork and meditation. Led in a supportive and serene setti
 ng\, attendees will connect with like-minded women\, releasing the tension
 s of the day and rediscovering their inner peace. Perfect for those seekin
 g relaxation and connection\, this experience offers a blend of mindfulnes
 s and community. Mark your calendars for Thursday\, October 17\, 2024\, at
  5:30 PM and don't miss the chance to sip\, relax\, and say om in this nur
 turing environment.\n\nGET TICKETS\n
ATTACH;FMTTYPE=image/jpeg:https://breatheatlanta.us/wp-content/uploads/202
 4/09/Sip-Say-Om.jpg
CATEGORIES:Yoga Events
LOCATION:The Rest Spot\, 1951 Old Concord Road\, Smyrna\, Smyrna\, 30080\, 
 GA\, United States
X-APPLE-STRUCTURED-LOCATION;VALUE=URI;X-ADDRESS=1951 Old Concord Road\, Smy
 rna\, Smyrna\, 30080\, GA\, United States;X-APPLE-RADIUS=100;X-TITLE=The R
 est Spot:geo:0,0
END:VEVENT
BEGIN:VTIMEZONE
TZID:America/New_York
X-LIC-LOCATION:America/New_York
BEGIN:DAYLIGHT
DTSTART:20240310T030000
TZOFFSETFROM:-0500
TZOFFSETTO:-0400
TZNAME:EDT
END:DAYLIGHT
END:VTIMEZONE
END:VCALENDAR