BEGIN:VCALENDAR
VERSION:2.0
PRODID:-//wp-events-plugin.com//7.2.3.1//EN
TZID:America/New_York
X-WR-TIMEZONE:America/New_York
BEGIN:VEVENT
UID:334@breatheatlanta.us
DTSTART;TZID=America/New_York:20240727T130000
DTEND;TZID=America/New_York:20240727T153000
DTSTAMP:20240627T060826Z
URL:https://breatheatlanta.us/events/sipping-pretty-in-wellness/
SUMMARY:Sipping Pretty in Wellness
DESCRIPTION:Join us for the relaunch of BWB Inc. Georgia's Chapter at our i
 n-person event located at 10187 Access Rd Ste. D. It's a day dedicated to 
 relaxation\, rejuvenation\, and self-care. Indulge in wellness activities\
 , sip on delicious and healthy beverages\, and connect with like-minded in
 dividuals who share a passion for living their best lives.\n\nWhat to Expe
 ct:\n\nExperience a day filled with pampering and self-love as you priorit
 ize your well-being in a supportive and welcoming environment.\n\nActiviti
 es:\n\n 	Wellness Activities: Engage in various wellness activities design
 ed to relax\, rejuvenate\, and promote self-care.\n 	Healthy Beverages: Si
 p on delicious and nutritious beverages to nourish your body and soul.\n 	
 Community Connection: Connect with others who share your passion for welln
 ess and living a balanced life.\n\nWhy Attend:\n\n 	Self-Care: Take time f
 or yourself and prioritize your well-being in a nurturing and supportive e
 nvironment.\n 	Relaxation: Unwind and destress with a variety of activitie
 s aimed at promoting relaxation and rejuvenation.\n 	Community: Connect wi
 th like-minded individuals and build meaningful connections that support y
 our wellness journey.\n\nJoin Us:\n\nDon't miss out on this opportunity to
  treat yourself to a day of pampering and self-love at the relaunch of BWB
  Inc. Georgia's Chapter. Reserve your spot now and embark on a journey of 
 relaxation\, rejuvenation\, and connection. See you there!\n\nGET TICKETS\
 n
ATTACH;FMTTYPE=image/jpeg:https://breatheatlanta.us/wp-content/uploads/202
 4/06/Sipping-Pretty-in-Wellness.jpg
CATEGORIES:Mindfulness Events,Retreats Events,Wellness Events
LOCATION:10187 Access Rd ste. d\, 10187 Access Road #ste. d Covington\, Atl
 anta\, Georgia\, 30014\, GA\, United States
X-APPLE-STRUCTURED-LOCATION;VALUE=URI;X-ADDRESS=10187 Access Road #ste. d C
 ovington\, Atlanta\, Georgia\, 30014\, GA\, United States;X-APPLE-RADIUS=1
 00;X-TITLE=10187 Access Rd ste. d:geo:0,0
END:VEVENT
BEGIN:VTIMEZONE
TZID:America/New_York
X-LIC-LOCATION:America/New_York
BEGIN:DAYLIGHT
DTSTART:20240310T030000
TZOFFSETFROM:-0500
TZOFFSETTO:-0400
TZNAME:EDT
END:DAYLIGHT
END:VTIMEZONE
END:VCALENDAR