BEGIN:VCALENDAR
VERSION:2.0
PRODID:-//wp-events-plugin.com//7.2.3.1//EN
TZID:America/New_York
X-WR-TIMEZONE:America/New_York
BEGIN:VEVENT
UID:551@breatheatlanta.us
DTSTART;TZID=America/New_York:20241014T190000
DTEND;TZID=America/New_York:20241014T220000
DTSTAMP:20241001T140121Z
URL:https://breatheatlanta.us/events/skin-care-self-care-day/
SUMMARY:Skin care/self care day
DESCRIPTION:Skincare and self-care day is a rejuvenating event focused on p
 romoting personal wellness\, relaxation\, and pampering in the heart of At
 lanta\, Georgia. Participants can indulge in various skincare treatments\,
  explore wellness products\, and learn self-care routines designed to enha
 nce both physical appearance and mental well-being. This event is ideal fo
 r those seeking to unwind and prioritize their health amidst their busy li
 ves. Whether you're looking to refresh your skincare routine\, take a mome
 nt for yourself\, or simply enjoy a day of relaxation\, this event offers 
 the perfect opportunity.\n\nTags:\n\n 	United States Events\n 	Georgia Eve
 nts\n 	Things to do in Atlanta\, GA\n 	Atlanta Health Events\n 	#wellness\
 n 	#skincare\n 	#relaxation\n 	#selfcare\n 	#pampering\n\n\nGET TICKETS\n
ATTACH;FMTTYPE=image/jpeg:https://breatheatlanta.us/wp-content/uploads/202
 4/10/Skin-care-self-care-day.jpeg
CATEGORIES:Wellness Events
LOCATION:1434 Pollard Dr SW\, 1434 Pollard Drive Southwest Atlanta\, Los An
 geles\, California\,  30311\, GA\, United States
X-APPLE-STRUCTURED-LOCATION;VALUE=URI;X-ADDRESS=1434 Pollard Drive Southwes
 t Atlanta\, Los Angeles\, California\,  30311\, GA\, United States;X-APPLE
 -RADIUS=100;X-TITLE=1434 Pollard Dr SW:geo:0,0
END:VEVENT
BEGIN:VTIMEZONE
TZID:America/New_York
X-LIC-LOCATION:America/New_York
BEGIN:DAYLIGHT
DTSTART:20240310T030000
TZOFFSETFROM:-0500
TZOFFSETTO:-0400
TZNAME:EDT
END:DAYLIGHT
END:VTIMEZONE
END:VCALENDAR