BEGIN:VCALENDAR
VERSION:2.0
PRODID:-//wp-events-plugin.com//7.2.3.1//EN
TZID:America/New_York
X-WR-TIMEZONE:America/New_York
BEGIN:VEVENT
UID:645@breatheatlanta.us
DTSTART;TZID=America/New_York:20241025T180000
DTEND;TZID=America/New_York:20241025T210000
DTSTAMP:20241018T080314Z
URL:https://breatheatlanta.us/events/skull-house-classic-2024/
SUMMARY:SKULL HOUSE CLASSIC 2024
DESCRIPTION:Welcome to the First Annual Skull House Classic 5K\, a thrillin
 g event set to take place on Friday\, October 25\, 2024\, beginning at 6 P
 M. This exciting evening promises a lively atmosphere filled with Skull Ho
 use festivities\, where participants and spectators alike can immerse them
 selves in the fun.\n\nAttendees will have the chance to purchase exclusive
  Skull House merchandise along with a variety of limited-edition items\, e
 nsuring that everyone leaves with a memorable piece of the event. Whether 
 participants choose to run or simply join in the festivities\, all are enc
 ouraged to come out and enjoy the experience.\n\nIt’s important to note 
 that this event is an unsanctioned race\, meaning the responsibility for s
 afety rests solely with each individual participant. Runners should be awa
 re that the course includes mixed terrain\, and roads will not be closed d
 uring the event.\n\nBy registering for the Skull House Classic\, participa
 nts acknowledge and accept the risks associated with the event\, which may
  include falls\, contact with other runners\, weather conditions such as h
 ail or high heat\, traffic\, and varying road or path conditions. Particip
 ants should carefully consider these factors\, understanding that they are
  waiving any claims against the Skull House Running Company\, its director
 s\, officers\, volunteers\, marketers\, sponsors\, and their representativ
 es for any potential damages or liabilities arising from their participati
 on\, even in cases of negligence.\n\nThis liability waiver is governed by 
 the laws of the state of Georgia\, ensuring a clear understanding of the r
 ights and responsibilities of all attendees.\n\nJoin the Skull House commu
 nity for an unforgettable night of running\, camaraderie\, and excitement!
  Mark your calendars and prepare to make memories at this unique event.\n\
 nGET TICKETS\n
ATTACH;FMTTYPE=image/jpeg:https://breatheatlanta.us/wp-content/uploads/202
 4/10/SKULL-HOUSE-CLASSIC-2024.jpg
CATEGORIES:Sports &amp; Fitness Events,Things To Do
LOCATION:Bessie Branham Park\, 2051 Delano Drive Northeast Atlanta\, Atlant
 a\, Georgia\, 30317\, GA\, United States
X-APPLE-STRUCTURED-LOCATION;VALUE=URI;X-ADDRESS=2051 Delano Drive Northeast
  Atlanta\, Atlanta\, Georgia\, 30317\, GA\, United States;X-APPLE-RADIUS=1
 00;X-TITLE=Bessie Branham Park:geo:0,0
END:VEVENT
BEGIN:VTIMEZONE
TZID:America/New_York
X-LIC-LOCATION:America/New_York
BEGIN:DAYLIGHT
DTSTART:20240310T030000
TZOFFSETFROM:-0500
TZOFFSETTO:-0400
TZNAME:EDT
END:DAYLIGHT
END:VTIMEZONE
END:VCALENDAR