BEGIN:VCALENDAR
VERSION:2.0
PRODID:-//wp-events-plugin.com//7.2.3.1//EN
TZID:America/New_York
X-WR-TIMEZONE:America/New_York
BEGIN:VEVENT
UID:471@breatheatlanta.us
DTSTART;TZID=America/New_York:20241016T190000
DTEND;TZID=America/New_York:20241016T210000
DTSTAMP:20240923T163847Z
URL:https://breatheatlanta.us/events/sleep-the-best-tool-for-optimal-healt
 h/
SUMMARY:Sleep: The best tool for optimal health?
DESCRIPTION:Research increasingly suggests that quality sleep may be one of
  the most essential\, yet often overlooked\, factors for maintaining overa
 ll well-being. Adequate rest plays a crucial role in not only restoring th
 e body but also in supporting mental health\, cognitive function\, and emo
 tional balance.\n\nBeyond simply feeling refreshed\, sleep contributes to 
 physical recovery\, helping the body repair tissues\, regenerate cells\, a
 nd regulate vital processes like metabolism and immune function. Furthermo
 re\, consistent\, high-quality sleep is linked to better mood regulation\,
  reduced stress levels\, and improved decision-making abilities.\n\nExpert
 s argue that prioritizing sleep could be the foundation of a truly healthy
  lifestyle\, as it directly influences key aspects of health\, from cardio
 vascular function to memory retention. Whether through establishing a bedt
 ime routine\, improving sleep environment\, or managing stress more effect
 ively\, maximizing sleep may be the most powerful and accessible tool in o
 ne’s pursuit of optimal health.\n\n&nbsp\;\n\nGET TICKETS\n
ATTACH;FMTTYPE=image/jpeg:https://breatheatlanta.us/wp-content/uploads/202
 4/09/Sleep-The-best-tool-for-optimal-health.jpg
CATEGORIES:Wellness Events
LOCATION:Wholebody Systems\, 4600 West Village Place\, ##4011 Smyrna\,\, Ge
 orgia\, 30080\, GA\, United States
X-APPLE-STRUCTURED-LOCATION;VALUE=URI;X-ADDRESS=4600 West Village Place\, #
 #4011 Smyrna\,\, Georgia\, 30080\, GA\, United States;X-APPLE-RADIUS=100;X
 -TITLE=Wholebody Systems:geo:0,0
END:VEVENT
BEGIN:VTIMEZONE
TZID:America/New_York
X-LIC-LOCATION:America/New_York
BEGIN:DAYLIGHT
DTSTART:20240310T030000
TZOFFSETFROM:-0500
TZOFFSETTO:-0400
TZNAME:EDT
END:DAYLIGHT
END:VTIMEZONE
END:VCALENDAR