BEGIN:VCALENDAR
VERSION:2.0
PRODID:-//wp-events-plugin.com//7.2.3.1//EN
TZID:America/New_York
X-WR-TIMEZONE:America/New_York
BEGIN:VEVENT
UID:545@breatheatlanta.us
DTSTART;TZID=America/New_York:20241016T190000
DTEND;TZID=America/New_York:20241016T200000
DTSTAMP:20241001T130119Z
URL:https://breatheatlanta.us/events/slow-burn-bend-elevated-yoga-for-ever
 ybody-2/
SUMMARY:Slow Burn & Bend: Elevated Yoga for Everybody
DESCRIPTION:Join the Slow Burn &amp\; Bend experience every Wednesday at 7 
 PM EST\, where yoga meets herbal relaxation for a unique journey of balanc
 e and tranquility. This 60-minute guided flow\, set to a thoughtfully cura
 ted playlist\, offers an immersive environment of calming vibes.\n\nHosted
  at the scenic Oyun Botanical Gardens (3353 Washington Road\, East Point\,
  GA 30344)\, attendees are welcome to bring their own herbs or CBD to enha
 nce their practice—though this is entirely optional.\n\nWhat to bring:\n
 \n 	Yoga mat\n 	Water\n 	Herbs (if desired)\n\nPerfect for beginners\, thi
 s class is open to individuals 18 and older who are looking to blend mindf
 ulness with relaxation in a welcoming\, elevated space.\n\nSecure your spo
 t by clicking here or scanning the QR code to check out via Stripe!\n\nGET
  TICKETS\n
ATTACH;FMTTYPE=image/jpeg:https://breatheatlanta.us/wp-content/uploads/202
 4/10/Slow-Burn-Bend-Elevated-Yoga-for-Everybody.jpg
CATEGORIES:Yoga Events
LOCATION:Oyun Botanical Gardens\, 1551 Perry Boulevard\, 3353 Washington Rd
 \, Georgia\, 30344\, GA\, United States
X-APPLE-STRUCTURED-LOCATION;VALUE=URI;X-ADDRESS=1551 Perry Boulevard\, 3353
  Washington Rd\, Georgia\, 30344\, GA\, United States;X-APPLE-RADIUS=100;X
 -TITLE=Oyun Botanical Gardens:geo:0,0
END:VEVENT
BEGIN:VTIMEZONE
TZID:America/New_York
X-LIC-LOCATION:America/New_York
BEGIN:DAYLIGHT
DTSTART:20240310T030000
TZOFFSETFROM:-0500
TZOFFSETTO:-0400
TZNAME:EDT
END:DAYLIGHT
END:VTIMEZONE
END:VCALENDAR