BEGIN:VCALENDAR
VERSION:2.0
PRODID:-//wp-events-plugin.com//7.2.3.1//EN
TZID:America/New_York
X-WR-TIMEZONE:America/New_York
BEGIN:VEVENT
UID:116@breatheatlanta.us
DTSTART;TZID=America/New_York:20240410T190000
DTEND;TZID=America/New_York:20240410T200000
DTSTAMP:20240323T081450Z
URL:https://breatheatlanta.us/events/slow-burn-bend-elevated-yoga-for-ever
 ybody/
SUMMARY:Slow Burn & Bend: Elevated Yoga for Everybody
DESCRIPTION:Slow Burn &amp\; Bend offers a distinctive and "elevated" yoga 
 experience by seamlessly blending yoga with herbs. This unique combination
  enhances the practice\, creating a truly one-of-a-kind journey for partic
 ipants. Join us as we intertwine the benefits of yoga with the soothing qu
 alities of herbs\, elevating your practice to new heights of relaxation an
 d rejuvenation.\n\nEvent Information:\n\nEvent Name: Slow Burn &amp\; Bend
 : Elevated Yoga for Everybody\n\nHost: Lavender &amp\; Lotus Yoga\n\nDate 
 and Time: Wednesday\, April 10 • 7:00 - 8:00pm EDT.\n\nLocation: Oyun Bo
 tanical Gardens\, 3353 Washington Road East Point\, GA 30344\, United Stat
 es\n\nAbout this Event: Every Wednesday at 7:00 PM EST for Slow Burn &amp\
 ; Bend: Elevated Yoga for Everybody. This unique yoga experience\, hosted 
 by Lavender &amp\; Lotus Yoga\, combines yoga and herbs for a truly specia
 l and elevated practice. Immerse yourself in a 60-minute flow accompanied 
 by a curated playlist of pure vibes\, designed to enhance your relaxation 
 and connection with body and mind. The session takes place at Oyun Botanic
 al Gardens\, offering a serene backdrop for your yoga journey. Feel free t
 o bring your own herbs or CBD (optional) to further elevate your experienc
 e. Don't forget to bring your yoga mat\, water\, and an open mind. This ev
 ent is suitable for beginner yogis and open to guests aged 18 and older.\n
 \nTicket Information:\n\nGeneral Admission - $20.00\n\nFees: $3.18\n\nTota
 l: $23.18 (Including sales tax)\n\nGET TICKETS\n\nWorkout Session Detail:\
 n\n60-minute yoga flow blended with curated music.\n\nIncorporation of her
 bs for an enhanced experience.\n\nEssential for Attendees:\n\nYoga mat\n\n
 Water\n\nHerbs or CBD (optional)\n\nOpen mind and willingness to participa
 te.\n\nParking Option: Not specified in the provided information.\n\nRefun
 d Policy: Contact the organizer to request a refund. Eventbrite's fee is n
 onrefundable.
ATTACH;FMTTYPE=image/jpeg:https://breatheatlanta.us/wp-content/uploads/202
 4/03/yyyyyyyyyyyyyyyyyyyyyy.jpg
CATEGORIES:Wellness Events,Yoga Events
LOCATION:Oyun Botanical Gardens\,  3353 Washington Road \, \, East Point\, 
 United States\, 30344 \, GA \, United States
X-APPLE-STRUCTURED-LOCATION;VALUE=URI;X-ADDRESS= 3353 Washington Road \, \,
  East Point\, United States\, 30344 \, GA \, United States;X-APPLE-RADIUS=
 100;X-TITLE=Oyun Botanical Gardens:geo:0,0
END:VEVENT
BEGIN:VTIMEZONE
TZID:America/New_York
X-LIC-LOCATION:America/New_York
BEGIN:DAYLIGHT
DTSTART:20240310T030000
TZOFFSETFROM:-0500
TZOFFSETTO:-0400
TZNAME:EDT
END:DAYLIGHT
END:VTIMEZONE
END:VCALENDAR