BEGIN:VCALENDAR
VERSION:2.0
PRODID:-//wp-events-plugin.com//7.2.3.1//EN
TZID:America/New_York
X-WR-TIMEZONE:America/New_York
BEGIN:VEVENT
UID:452@breatheatlanta.us
DTSTART;TZID=America/New_York:20240928T140000
DTEND;TZID=America/New_York:20240928T170000
DTSTAMP:20240914T180822Z
URL:https://breatheatlanta.us/events/sm-lac-presents-50-shades-of-teal-ova
 rian-cancer-awareness-tea/
SUMMARY:SM-LAC Presents 50 Shades of Teal: Ovarian Cancer Awareness Tea
DESCRIPTION:Join us for an afternoon of elegance\, education\, and empowerm
 ent at 50 Shades of Teal: Ovarian Cancer Awareness Tea\, where each sip br
 ings us closer to raising awareness and support for ovarian cancer researc
 h. Hosted in partnership with the Georgia Ovarian Cancer Alliance\, this s
 pecial event is designed to inspire hope and action in the fight against o
 varian cancer.\n\n👗 Dress to Impress: Step out in style by embracing th
 e theme with your favorite shades of teal—the signature color of ovarian
  cancer awareness. Don’t forget your hats\, fascinators\, and gloves! Le
 t’s create a bold and beautiful statement of solidarity together.\n\n
 💡 Educational &amp\; Empowering: The event features a thoughtfully cura
 ted program\, including informative presentations from medical experts\, p
 owerful survivor stories\, and insights into ovarian cancer prevention and
  research.\n\n🎟️ Entertainment &amp\; Activities: Enjoy live entertai
 nment\, interactive activities\, and the chance to win fabulous prizes. Th
 ere’s something for everyone to make the day truly memorable!\n\n☕️ 
 Teas &amp\; Treats: Indulge in a delightful assortment of handpicked teas 
 and delectable treats\, all carefully selected to complement the elegance 
 of the occasion.\n\n☕️ Bring Your Favorite Teacup: We invite you to br
 ing your favorite teacup—whether it’s a cherished family heirloom\, a 
 unique vintage find\, or simply a cup that sparks joy. Let’s toast to li
 fe and hope in style!\n\n🦋 Honoring Heroes: Together\, we will celebrat
 e and honor ovarian cancer survivors\, those bravely battling the disease\
 , and their families. This is a moment to pay tribute to their strength an
 d resilience.\n\nThis gathering is more than just an afternoon tea—it's 
 a meaningful opportunity to raise awareness\, support research\, and uplif
 t those affected by ovarian cancer. Let’s come together for a cause that
  matters\, while enjoying an afternoon of connection\, fun\, and solidarit
 y. We look forward to seeing you there!\n\nGET TICKETS\n
ATTACH;FMTTYPE=image/jpeg:https://breatheatlanta.us/wp-content/uploads/202
 4/09/SM-LAC-Presents-50-Shades-of-Teal-Ovarian-Cancer-Awareness-Tea.jpg
CATEGORIES:Things To Do,Wellness Events
LOCATION:1028 Event Space\, 1028 Second Street Stone Mountain\, Atlanta\, G
 eorgia\, 30083\, GA\, United States
X-APPLE-STRUCTURED-LOCATION;VALUE=URI;X-ADDRESS=1028 Second Street Stone Mo
 untain\, Atlanta\, Georgia\, 30083\, GA\, United States;X-APPLE-RADIUS=100
 ;X-TITLE=1028 Event Space:geo:0,0
END:VEVENT
BEGIN:VTIMEZONE
TZID:America/New_York
X-LIC-LOCATION:America/New_York
BEGIN:DAYLIGHT
DTSTART:20240310T030000
TZOFFSETFROM:-0500
TZOFFSETTO:-0400
TZNAME:EDT
END:DAYLIGHT
END:VTIMEZONE
END:VCALENDAR