BEGIN:VCALENDAR
VERSION:2.0
PRODID:-//wp-events-plugin.com//7.2.3.1//EN
TZID:America/New_York
X-WR-TIMEZONE:America/New_York
BEGIN:VEVENT
UID:636@breatheatlanta.us
DTSTART;TZID=America/New_York:20241026T120000
DTEND;TZID=America/New_York:20241026T190000
DTSTAMP:20241018T072024Z
URL:https://breatheatlanta.us/events/sneaker-con-atlanta/
SUMMARY:SNEAKER CON ATLANTA
DESCRIPTION:In 2024\, Sneaker Con proudly marks its 15th anniversary\, a mi
 lestone that brings with it a celebration of sneaker culture and community
 . This year’s festivities will unfold across iconic cities\, both famili
 ar and new\, both in the U.S. and internationally\, highlighting the rich 
 history and journey of this beloved event.\n\nA Journey Through Time Refle
 cting on its humble beginnings\, Sneaker Con first emerged in a small hall
 way of a comedy club in Times Square\, New York\, featuring just 20 vendor
 s. Who could have predicted the transformation into the vibrant platform i
 t is today\, capable of hosting anywhere from 300 to 500 vendors\, brands\
 , and partners at each event? Sneaker Con has not only become a marketplac
 e for enthusiasts to buy\, sell\, and trade sneakers\, but also a communit
 y that nurtures the next generation of sneakerheads.\n\nInnovative Service
 s and Programs In 2013\, the introduction of Sneaker Con Authenticated (LE
 GIT) marked a pivotal moment in the sneaker community\, offering a free se
 rvice designed to protect both buyers and sellers. This commitment to inte
 grity continues today\, supported by a partnership with eBay. That same ye
 ar\, Ace Of Customs was launched\, providing a platform for talented artis
 ts\, designers\, and creators to showcase their work. Many featured custom
 izers have transitioned from traditional jobs to thriving careers\, with s
 ome now employed by leading sneaker brands like Nike\, Jordan\, and Adidas
 .\n\nThe Trading Pit\, introduced in New York in 2014\, was designed to gi
 ve every sneaker enthusiast\, regardless of collection size\, an opportuni
 ty to engage in the sneaker community. Over the years\, this space has wit
 nessed countless stories of growth\, as young collectors with a single pai
 r of sneakers have blossomed into established vendors with extensive inven
 tories.\n\nA Platform for Creators Recognizing the power of digital media\
 , Sneaker Con embraced the explosion of YouTube in 2015\, transforming int
 o a hub for content creators and influencers. This shift not only allowed 
 creators to connect with sneaker culture and gain access to coveted produc
 ts\, but it also provided them a platform to build their brands and intera
 ct with their fanbases. The Sneaker Conversations main stage has evolved i
 nto an educational forum\, enriching events with valuable insights and ent
 ertainment.\n\nSneaker Con Hoops In a thrilling expansion\, Sneaker Con Ho
 ops emerged\, showcasing amateur basketball events that attracted thousand
 s of spectators. By featuring notable influencers and hosting vibrant comp
 etitions\, Sneaker Con not only bridged sneaker culture with sports but al
 so sparked a resurgence of streetball content reminiscent of the iconic An
 d1 mixtapes.\n\nGlobal Expansion In 2017\, Sneaker Con set its sights beyo
 nd the U.S.\, embarking on an international tour that began in London and 
 soon expanded to cities like Canada\, Hong Kong\, and Australia. Over the 
 years\, the event has reached multiple cities in China\, as well as Osaka\
 , Japan\, Singapore\, Germany\, and São Paulo\, Brazil. The 2024 tour pro
 mises exciting stops in Japan\, Mexico City\, Seoul\, and even more surpri
 se locations.\n\nCollaborations and Product Design Throughout its 15 years
 \, Sneaker Con has collaborated with over 500 brands and designers\, inclu
 ding industry heavyweights like Jeff Staple\, Diamond Supply Co.\, A Bathi
 ng Ape\, and Crocs. With an exciting lineup of new products and limited dr
 ops planned for 2024\, fans can look forward to unique collaborations that
  honor the spirit of sneaker culture.\n\nThis anniversary year is not just
  a celebration of Sneaker Con but a tribute to the countless vendors\, par
 tners\, attendees\, and fans who have contributed to its success over the 
 years. With much anticipation\, Sneaker Con looks forward to bringing the 
 community together for a memorable celebration of culture\, creativity\, a
 nd the love of sneakers. The countdown to the festivities begins\, and the
 y can’t wait to see everyone join in the celebration!\n\nGET TICKETS\n
ATTACH;FMTTYPE=image/jpeg:https://breatheatlanta.us/wp-content/uploads/202
 4/10/SNEAKER-CON-ATLANTA.jpg
CATEGORIES:Things To Do
LOCATION:Cobb Galleria Centre\, 2 Galleria Pkwy SE Atlanta\, Atlanta\, Geor
 gia\, 30339\, GA\, United States
X-APPLE-STRUCTURED-LOCATION;VALUE=URI;X-ADDRESS=2 Galleria Pkwy SE Atlanta\
 , Atlanta\, Georgia\, 30339\, GA\, United States;X-APPLE-RADIUS=100;X-TITL
 E=Cobb Galleria Centre:geo:0,0
END:VEVENT
BEGIN:VTIMEZONE
TZID:America/New_York
X-LIC-LOCATION:America/New_York
BEGIN:DAYLIGHT
DTSTART:20240310T030000
TZOFFSETFROM:-0500
TZOFFSETTO:-0400
TZNAME:EDT
END:DAYLIGHT
END:VTIMEZONE
END:VCALENDAR