BEGIN:VCALENDAR
VERSION:2.0
PRODID:-//wp-events-plugin.com//7.2.3.1//EN
TZID:America/New_York
X-WR-TIMEZONE:America/New_York
BEGIN:VEVENT
UID:735@breatheatlanta.us
DTSTART;TZID=America/New_York:20241214T120000
DTEND;TZID=America/New_York:20250214T150000
DTSTAMP:20241204T064318Z
URL:https://breatheatlanta.us/events/snow-day-at-alpharetta-city-center/
SUMMARY:Snow Day at Alpharetta City Center
DESCRIPTION:The Town Green at Alpharetta City Center will once again become
  the heart of holiday cheer as families gather for the much-anticipated Sn
 ow Day. This enchanting event brings the magic of winter to life\, complet
 e with snow flurries\, festive activities\, and a warm community atmospher
 e perfect for creating unforgettable memories.\nStep Into a Snowy Paradise
 \nAlthough snow may not be common in Alpharetta\, Snow Day transforms the 
 Town Green into a dazzling winter wonderland. Snow machines will fill the 
 air with gentle flurries\, creating a magical setting where kids can froli
 c in the "snow" and families can experience the joy of a crisp winter day 
 without ever leaving Georgia.\nActivities for All Ages\n\n 	Family-Friendl
 y Fun\nSnow Day is designed to captivate visitors of all ages with a varie
 ty of interactive and engaging activities. Kids can enjoy winter-themed ga
 mes and crafts\, while parents can relax and soak up the festive ambiance.
 \n 	Capture the Moment\nA holiday-themed photo booth provides the perfect 
 opportunity to snap keepsake pictures. Whether it’s a family portrait fr
 amed by snowflakes or a candid moment of laughter\, the photo booth ensure
 s you’ll leave with memories you can cherish forever.\n 	Seasonal Treats
  to Warm the Soul\nNo winter celebration is complete without festive food 
 and drinks. Visitors can savor holiday-themed treats\, from warm cookies a
 nd cocoa to other delightful surprises\, adding an extra layer of coziness
  to the frosty fun.\n\nA Community Celebration\nSnow Day at Alpharetta Cit
 y Center isn’t just about snow—it’s about bringing people together t
 o celebrate the spirit of the season. This cherished event fosters a sense
  of community as families\, friends\, and neighbors come together to revel
  in the wonder and joy of the holidays.\n\nWhether you’re building your 
 own snow-inspired traditions or looking for a festive outing to brighten t
 he season\, Snow Day at the Town Green is the perfect destination. Bundle 
 up and join the fun for an unforgettable day of snowflakes\, smiles\, and 
 holiday magic!\n\nGET TICKETS\n
ATTACH;FMTTYPE=image/jpeg:https://breatheatlanta.us/wp-content/uploads/202
 4/12/Snow-Day-at-Alpharetta-City-Center.jpg
CATEGORIES:Things To Do
LOCATION:Alpharetta City Center\, 2001 Commerce St. Alpharetta\, Atlanta\, 
 Georgia\, 30009 \, GA\, United States
X-APPLE-STRUCTURED-LOCATION;VALUE=URI;X-ADDRESS=2001 Commerce St. Alpharett
 a\, Atlanta\, Georgia\, 30009 \, GA\, United States;X-APPLE-RADIUS=100;X-T
 ITLE=Alpharetta City Center:geo:0,0
END:VEVENT
BEGIN:VTIMEZONE
TZID:America/New_York
X-LIC-LOCATION:America/New_York
BEGIN:STANDARD
DTSTART:20241103T010000
TZOFFSETFROM:-0400
TZOFFSETTO:-0500
TZNAME:EST
END:STANDARD
END:VTIMEZONE
END:VCALENDAR