BEGIN:VCALENDAR
VERSION:2.0
PRODID:-//wp-events-plugin.com//7.2.3.1//EN
TZID:America/New_York
X-WR-TIMEZONE:America/New_York
BEGIN:VEVENT
UID:397@breatheatlanta.us
DTSTART;TZID=America/New_York:20240817T120000
DTEND;TZID=America/New_York:20240817T160000
DTSTAMP:20240802T063252Z
URL:https://breatheatlanta.us/events/sole-to-soul-heel-to-heal-brunch/
SUMMARY:Sole to Soul & Heel to Heal Brunch
DESCRIPTION:Step into a realm where every step is a path to healing and eve
 ry interaction ignites transformation. Join us for the Sole to Soul &amp\;
  Heel to Heal Brunch\, a unique experience that marries delightful cuisine
  with profound conversation\, celebrating the strength of resilience and t
 he victory over adversity.\n\nWhat to Expect:\n\n 	Delectable Delights: Sa
 vor a delicious brunch that nourishes both body and soul.\n 	Stimulating C
 onversations: Engage in meaningful discussions that inspire and uplift.\n 
 	Celebration of Resilience: Share stories and experiences of overcoming pa
 in and embracing strength.\n 	Transformative Connections: Meet like-minded
  individuals and build connections that foster growth and healing.\n\nThis
  unforgettable day is dedicated to recognizing the power within each of us
  to heal\, grow\, and thrive. Join us for an inspiring journey of renewal 
 and empowerment\, where every moment is a step toward a brighter\, stronge
 r you.\n\nDon't Miss This Opportunity to Celebrate and Transform!\n\nGET T
 ICKETS\n
ATTACH;FMTTYPE=image/jpeg:https://breatheatlanta.us/wp-content/uploads/202
 4/08/Sole-to-Soul.jpg
CATEGORIES:Mindfulness Events,Things To Do,Wellness Events
END:VEVENT
BEGIN:VTIMEZONE
TZID:America/New_York
X-LIC-LOCATION:America/New_York
BEGIN:DAYLIGHT
DTSTART:20240310T030000
TZOFFSETFROM:-0500
TZOFFSETTO:-0400
TZNAME:EDT
END:DAYLIGHT
END:VTIMEZONE
END:VCALENDAR