BEGIN:VCALENDAR
VERSION:2.0
PRODID:-//wp-events-plugin.com//7.2.3.1//EN
TZID:America/New_York
X-WR-TIMEZONE:America/New_York
BEGIN:VEVENT
UID:759@breatheatlanta.us
DTSTART;TZID=America/New_York:20250208T080000
DTEND;TZID=America/New_York:20250208T153000
DTSTAMP:20250204T180222Z
URL:https://breatheatlanta.us/events/somatic-healing-a-holistic-approach-t
 o-mind-body-wellness/
SUMMARY:Somatic Healing: A Holistic Approach to Mind-Body Wellness
DESCRIPTION:Somatic healing is a transformative practice that integrates bo
 dy awareness\, movement\, and mindfulness to release deep-seated tension\,
  emotional trauma\, and chronic stress. Rooted in the connection between t
 he mind and body\, this therapeutic approach focuses on how past experienc
 es\, emotions\, and trauma are stored within the body’s nervous system\,
  influencing physical health\, behavior\, and overall well-being.\n\nUnlik
 e conventional talk therapy\, which primarily engages the mind\, somatic h
 ealing emphasizes bodily sensations\, postural patterns\, and movement to 
 unlock and process unresolved trauma. By tuning into these physical cues\,
  individuals can develop greater self-awareness\, improve emotional regula
 tion\, and restore balance to the nervous system.\nHow Somatic Healing Wor
 ks\nSomatic healing employs various techniques designed to help individual
 s reconnect with their bodies and release stored tension. These methods in
 clude:\n\n 	Breathwork – Conscious breathing exercises that promote rela
 xation\, regulate the nervous system\, and enhance emotional processing.\n
  	Body Scanning &amp\; Awareness – A mindful practice that involves scan
 ning different parts of the body to identify and release areas of tension.
 \n 	Movement Therapy – Gentle\, intentional movements that support emoti
 onal expression and physical alignment.\n 	Touch Therapy – Hands-on tech
 niques that facilitate nervous system regulation and encourage healing.\n 
 	Grounding Exercises – Practices that anchor individuals in the present 
 moment\, reducing anxiety and stress.\n\nBenefits of Somatic Healing\nBy i
 ntegrating somatic healing techniques into daily life\, individuals can ex
 perience a wide range of physical\, emotional\, and psychological benefits
 \, including:\n\n✅ Stress and Anxiety Reduction – Learn to regulate th
 e nervous system and release chronic tension.\n✅ Emotional Resilience 
 – Gain tools to process past trauma and develop healthier emotional resp
 onses.\n✅ Improved Physical Well-Being – Address pain\, muscle tension
 \, and postural imbalances caused by stored stress.\n✅ Enhanced Self-Awa
 reness – Strengthen the mind-body connection and cultivate mindfulness.\
 n✅ Greater Sense of Safety &amp\; Grounding – Reconnect with the body 
 and experience deep inner peace.\nWho Can Benefit from Somatic Healing?\nS
 omatic healing is a powerful practice suitable for individuals from all wa
 lks of life. It can be especially beneficial for:\n\n🔹 Those dealing wi
 th chronic stress\, anxiety\, or PTSD.\n🔹 Individuals recovering from t
 rauma\, whether physical or emotional.\n🔹 Athletes and professionals se
 eking to optimize performance and reduce bodily tension.\n🔹 People expe
 riencing chronic pain\, fatigue\, or tension-related disorders.\n🔹 Anyo
 ne looking to cultivate a deeper connection with their body and emotions.\
 nEmbrace the Healing Power of Your Body\nSomatic healing offers a gentle y
 et profound path toward self-discovery and inner transformation. By learni
 ng to listen to the wisdom of the body\, individuals can unlock stored tra
 uma\, cultivate resilience\, and step into a state of balance\, vitality\,
  and emotional freedom. Whether through guided movement\, breathwork\, or 
 touch therapy\, this holistic approach empowers individuals to heal from w
 ithin and embrace a more harmonious\, embodied life.\n\nGET TICKETS\n
ATTACH;FMTTYPE=image/jpeg:https://breatheatlanta.us/wp-content/uploads/202
 5/02/DALL·E-2025-02-05-00.00.54-A-serene-and-calming-scene-of-somatic-hea
 ling.-A-person-sits-cross-legged-in-a-meditative-pose-eyes-closed-with-a-g
 entle-glow-emanating-from-their-b.webp
CATEGORIES:Wellness Events
LOCATION:Atlanta\, Atlanta\, GA\, USA Atlanta\, GA United States\, Atlanta\
 , GA\, 30310\, GA\, United States
X-APPLE-STRUCTURED-LOCATION;VALUE=URI;X-ADDRESS=Atlanta\, GA\, USA Atlanta\
 , GA United States\, Atlanta\, GA\, 30310\, GA\, United States;X-APPLE-RAD
 IUS=100;X-TITLE=Atlanta:geo:0,0
END:VEVENT
BEGIN:VTIMEZONE
TZID:America/New_York
X-LIC-LOCATION:America/New_York
BEGIN:STANDARD
DTSTART:20241103T010000
TZOFFSETFROM:-0400
TZOFFSETTO:-0500
TZNAME:EST
END:STANDARD
END:VTIMEZONE
END:VCALENDAR