BEGIN:VCALENDAR
VERSION:2.0
PRODID:-//wp-events-plugin.com//7.2.3.1//EN
TZID:America/New_York
X-WR-TIMEZONE:America/New_York
BEGIN:VEVENT
UID:699@breatheatlanta.us
DTSTART;TZID=America/New_York:20241117T183000
DTEND;TZID=America/New_York:20241117T200000
DTSTAMP:20241024T172609Z
URL:https://breatheatlanta.us/events/soothing-sound-bath/
SUMMARY:Soothing Sound Bath
DESCRIPTION:Immerse yourself in a deeply relaxing and transformative experi
 ence with a Soothing Sound Bath. This holistic practice combines the power
  of sound and vibration to promote deep relaxation\, mental clarity\, and 
 emotional healing. Perfect for anyone seeking a peaceful escape from the s
 tresses of daily life\, a sound bath uses a variety of instruments\, inclu
 ding crystal singing bowls\, gongs\, chimes\, and other healing sounds\, t
 o create a meditative atmosphere that soothes both body and mind.\n\nWhat 
 is a Sound Bath?\n\nA sound bath is a meditative experience where particip
 ants are "bathed" in sound waves\, produced by various instruments that ge
 nerate resonant frequencies. These vibrations penetrate deeply into the bo
 dy\, calming the nervous system\, and helping release tension\, stress\, a
 nd emotional blockages. As you lay comfortably in a restful position\, the
  harmonious tones work to balance your energy and bring a profound sense o
 f peace and well-being.\n\nBenefits of a Soothing Sound Bath:\n\n 	Deep Re
 laxation: The soothing sounds wash over you\, helping you enter a deeply r
 elaxed state where stress melts away.\n 	Mental Clarity: The harmonious vi
 brations promote mindfulness\, clearing mental fog and enhancing focus and
  clarity.\n 	Emotional Healing: The meditative atmosphere encourages emoti
 onal release\, allowing you to let go of what no longer serves you.\n 	Ene
 rgy Alignment: Sound baths work to align your energy centers (chakras)\, p
 romoting balance and harmony in your body and mind.\n 	Improved Sleep: Man
 y participants report enhanced sleep quality after a sound bath\, as the c
 alming effects extend long after the session.\n\nWhat to Expect:\n\nDuring
  a soothing sound bath\, you will be invited to lie down comfortably\, eit
 her on a yoga mat or cushion\, in a peaceful and serene environment. The p
 ractitioner will guide you into a relaxed state with the sounds of crystal
  bowls\, gongs\, and other meditative instruments\, creating waves of calm
 ing frequencies that gently envelop your senses. As the vibrations resonat
 e through your body\, you will enter a meditative state where deep relaxat
 ion and healing take place.\n\nHow to Prepare:\n\n 	Wear comfortable cloth
 ing to ensure you can fully relax during the session.\n 	Bring a mat or bl
 anket if you prefer additional comfort while lying down.\n 	Stay hydrated 
 both before and after the session to help your body process the energy shi
 ft.\n\nJoin Us for a Soothing Sound Bath\n\nWhether you are looking to rel
 ieve stress\, find emotional balance\, or simply enjoy a tranquil escape\,
  the Soothing Sound Bath offers a restorative space for anyone in need of 
 mental and emotional rejuvenation. No prior meditation experience is neces
 sary—just come with an open heart and a readiness to relax.\n\nAllow the
  healing power of sound to guide you into a place of inner peace and deep 
 calm.\n\nGET TICKETS\n
ATTACH;FMTTYPE=image/jpeg:https://breatheatlanta.us/wp-content/uploads/202
 4/10/Soothing-Sound-Bath.jpg
CATEGORIES:Wellness Events
LOCATION:Relaxing Vibrations Spa\, 6670 James B Rivers Memorial Drive Suite
  100 Stone Mountain\, Atlanta\, Georgia\, 30083\, GA\, United States
X-APPLE-STRUCTURED-LOCATION;VALUE=URI;X-ADDRESS=6670 James B Rivers Memoria
 l Drive Suite 100 Stone Mountain\, Atlanta\, Georgia\, 30083\, GA\, United
  States;X-APPLE-RADIUS=100;X-TITLE=Relaxing Vibrations Spa:geo:0,0
END:VEVENT
BEGIN:VTIMEZONE
TZID:America/New_York
X-LIC-LOCATION:America/New_York
BEGIN:STANDARD
DTSTART:20241103T010000
TZOFFSETFROM:-0400
TZOFFSETTO:-0500
TZNAME:EST
END:STANDARD
END:VTIMEZONE
END:VCALENDAR