BEGIN:VCALENDAR
VERSION:2.0
PRODID:-//wp-events-plugin.com//7.2.3.1//EN
TZID:America/New_York
X-WR-TIMEZONE:America/New_York
BEGIN:VEVENT
UID:328@breatheatlanta.us
DTSTART;TZID=America/New_York:20240713T130000
DTEND;TZID=America/New_York:20240713T150000
DTSTAMP:20240628T221659Z
URL:https://breatheatlanta.us/events/soulful-breathwork-with-sacred-soundb
 ath-atlanta/
SUMMARY:Soulful Breathwork with Sacred Soundbath Atlanta
DESCRIPTION:Immerse yourself in the transformative experience of Soulful Br
 eathwork and Sacred Soundbath in Atlanta. Guided by Plamen Russev and Deni
 se Foster\, this event promises to heal the body\, calm the mind\, and nou
 rish the soul.\n\nEvent Details:\n\n 	Soulful Breathwork: Led by Plamen Ru
 ssev\, this breathwork session offers a safe and effective method to heal 
 past traumas by releasing unprocessed emotions such as pain\, grief\, ange
 r\, and fear. Participants can also expect immediate and lasting benefits\
 , including stress relief\, emotional harmony\, and increased vitality.\n 
 	Sacred Soundbath: Following the breathwork\, Denise Foster\, a Reiki Mast
 er and Sound Therapist\, will lead a Sacred Soundbath. Her healing energy 
 is amplified through the use of crystal singing bowls\, wave drum\, chimes
 \, rain stick\, bells\, and other meditative instruments. She will move th
 roughout the space\, playing these instruments to enhance your experience 
 and integrate the healing effects of the breathwork.\n\nWhat to Expect:\n\
 n 	Healing and Transformation: Experience a profound release of emotional 
 and physical stress\, achieving mental clarity\, emotional healing\, and s
 piritual connection.\n 	Expert Guidance: Benefit from the expertise of Pla
 men Russev in breathwork and Denise Foster's mastery in sound therapy and 
 Reiki healing.\n 	Holistic Approach: The combination of breathwork and sou
 nd therapy provides a holistic approach to wellness\, promoting relaxation
 \, self-awareness\, and overall well-being.\n\nWhy Attend:\n\n 	Emotional 
 and Physical Healing: Heal past traumas and unprocessed emotions while rel
 ieving stress and harmonizing your emotions.\n 	Enhanced Well-being: Enjoy
  increased vitality\, mental clarity\, and a deeper sense of peace and sel
 f-awareness.\n 	Spiritual Connection: Foster a deeper spiritual connection
  through guided breathwork and sacred sound therapy.\n\nJoin Us:\n\nDon't 
 miss this opportunity to experience the profound benefits of Soulful Breat
 hwork and Sacred Soundbath. Reserve your spot today for a life-changing se
 ssion that will leave you feeling rejuvenated and at peace.\n\nGET TICKETS
 \n
ATTACH;FMTTYPE=image/jpeg:https://breatheatlanta.us/wp-content/uploads/202
 4/06/Soulful-Breathwork-with-Sacred-Soundbath-Atlanta.jpg
CATEGORIES:Featured Events,Mindfulness Events,Travel Events
LOCATION:Neighbourhood Church\, 1561 McLendon Avenue Northeast Atlanta\, At
 lanta\, Georgia\, 30307\, GA\, United States
X-APPLE-STRUCTURED-LOCATION;VALUE=URI;X-ADDRESS=1561 McLendon Avenue Northe
 ast Atlanta\, Atlanta\, Georgia\, 30307\, GA\, United States;X-APPLE-RADIU
 S=100;X-TITLE=Neighbourhood Church:geo:0,0
END:VEVENT
BEGIN:VTIMEZONE
TZID:America/New_York
X-LIC-LOCATION:America/New_York
BEGIN:DAYLIGHT
DTSTART:20240310T030000
TZOFFSETFROM:-0500
TZOFFSETTO:-0400
TZNAME:EDT
END:DAYLIGHT
END:VTIMEZONE
END:VCALENDAR