BEGIN:VCALENDAR
VERSION:2.0
PRODID:-//wp-events-plugin.com//7.2.3.1//EN
TZID:America/New_York
X-WR-TIMEZONE:America/New_York
BEGIN:VEVENT
UID:456@breatheatlanta.us
DTSTART;TZID=America/New_York:20240918T183000
DTEND;TZID=America/New_York:20240918T203000
DTSTAMP:20240915T062001Z
URL:https://breatheatlanta.us/events/sound-bath-chill/
SUMMARY:Sound Bath & Chill
DESCRIPTION:Escape the bustle of everyday life and join us for Sound Bath &
 amp\; Chill\, a peaceful evening dedicated to relaxation\, community\, and
  soulful rejuvenation. Set against the backdrop of nature\, this event inv
 ites you to unwind in a serene outdoor setting while connecting with other
 s and nourishing your spirit.\n\nArrive with a cozy picnic blanket or yoga
  mat\, and feel free to pack your favorite snacks to enjoy under the canop
 y of trees. Whether you're coming alone or bringing friends\, this is a we
 lcoming space for all to relax\, share stories\, and build meaningful conn
 ections with like-minded individuals who seek calm and renewal.\n\nAs the 
 day winds down and the sun dips below the horizon\, we’ll transition int
 o a soothing Sound Bath. The gentle\, healing vibrations of crystal bowls\
 , chimes\, and other meditative instruments will wash over you\, creating 
 an immersive sonic landscape. Allow the harmonious sounds to release tensi
 on from your body and guide you into a state of profound peace and inner s
 tillness.\n\nThis evening is a chance to pause\, breathe deeply\, and find
  balance amidst the beauty of the natural world. Sound Bath &amp\; Chill i
 s more than just an event—it’s an invitation to connect with yourself\
 , others\, and the tranquil rhythms of nature\, leaving you refreshed and 
 revitalized. All are welcome\, whether you're seeking solitude\, community
 \, or simply a space to relax and be present. Come join us for a night of 
 relaxation\, reflection\, and soulful sound healing.\n\nGET TICKETS\n
ATTACH;FMTTYPE=image/jpeg:https://breatheatlanta.us/wp-content/uploads/202
 4/09/Sound-Bath-Chill.jpg
CATEGORIES:Things To Do,Wellness Events
LOCATION:Westside Park\, 1660 Johnson Road Northwest Atlanta\, Atlanta\, Ge
 orgia\, 30318\, GA\, United States
X-APPLE-STRUCTURED-LOCATION;VALUE=URI;X-ADDRESS=1660 Johnson Road Northwest
  Atlanta\, Atlanta\, Georgia\, 30318\, GA\, United States;X-APPLE-RADIUS=1
 00;X-TITLE=Westside Park:geo:0,0
END:VEVENT
BEGIN:VTIMEZONE
TZID:America/New_York
X-LIC-LOCATION:America/New_York
BEGIN:DAYLIGHT
DTSTART:20240310T030000
TZOFFSETFROM:-0500
TZOFFSETTO:-0400
TZNAME:EDT
END:DAYLIGHT
END:VTIMEZONE
END:VCALENDAR