BEGIN:VCALENDAR
VERSION:2.0
PRODID:-//wp-events-plugin.com//7.2.3.1//EN
TZID:America/New_York
X-WR-TIMEZONE:America/New_York
BEGIN:VEVENT
UID:383@breatheatlanta.us
DTSTART;TZID=America/New_York:20240911T110000
DTEND;TZID=America/New_York:20240911T130000
DTSTAMP:20240730T184522Z
URL:https://breatheatlanta.us/events/sound-bath-meditation-for-grief-loss/
SUMMARY:Sound Bath Meditation for Grief & Loss
DESCRIPTION:Experience a deeply restorative and calming journey with our He
 aling Sound Bath Meditation for Grief and Loss. This unique event is desig
 ned to help individuals navigate through their feelings of grief and loss\
 , using the transformative power of sound.\n\nEvent Overview:\n\nJoin us f
 or an immersive session where participants will be guided through a medita
 tive experience enriched by therapeutic sound waves and vibrations. This g
 entle approach aims to support and comfort those dealing with personal los
 s or seeking to provide solace to others.\n\nWhat to Expect:\n\n 	Guided M
 editation: Experience a structured meditation session that harnesses the s
 oothing power of sound to aid in the processing of grief and emotional pai
 n.\n 	Sound Therapy: Immerse yourself in calming frequencies designed to f
 acilitate healing\, relaxation\, and inner peace.\n 	Supportive Environmen
 t: Benefit from a nurturing and safe space where individuals can connect\,
  share\, and support one another through their healing journey.\n\nWhy Att
 end:\n\n 	Personal Healing: Whether you are seeking comfort for your own l
 oss or aiming to understand and support others\, this session offers a pea
 ceful retreat to process and release deep emotions.\n 	Community Connectio
 n: Join a compassionate community in a shared experience of healing\, offe
 ring a space to feel seen\, heard\, and supported.\n\nThis event is more t
 han just a meditation session\; it's an opportunity to find peace and heal
 ing through collective support and the profound impact of sound. Reserve y
 our spot and embrace the journey towards solace and recovery.\n\nGET TICKE
 TS\n
ATTACH;FMTTYPE=image/jpeg:https://breatheatlanta.us/wp-content/uploads/202
 4/07/Sound-Bath-Meditation-for-Grief-Loss.jpg
CATEGORIES:Mindfulness Events,Things To Do,Wellness Events
LOCATION:Atlanta\, Atlanta\, GA\, USA Atlanta\, GA United States\, Atlanta\
 , GA\, 30310\, GA\, United States
X-APPLE-STRUCTURED-LOCATION;VALUE=URI;X-ADDRESS=Atlanta\, GA\, USA Atlanta\
 , GA United States\, Atlanta\, GA\, 30310\, GA\, United States;X-APPLE-RAD
 IUS=100;X-TITLE=Atlanta:geo:0,0
END:VEVENT
BEGIN:VTIMEZONE
TZID:America/New_York
X-LIC-LOCATION:America/New_York
BEGIN:DAYLIGHT
DTSTART:20240310T030000
TZOFFSETFROM:-0500
TZOFFSETTO:-0400
TZNAME:EDT
END:DAYLIGHT
END:VTIMEZONE
END:VCALENDAR