BEGIN:VCALENDAR
VERSION:2.0
PRODID:-//wp-events-plugin.com//7.2.3.1//EN
TZID:America/New_York
X-WR-TIMEZONE:America/New_York
BEGIN:VEVENT
UID:541@breatheatlanta.us
DTSTART;TZID=America/New_York:20241027T130000
DTEND;TZID=America/New_York:20241027T150000
DTSTAMP:20241001T121936Z
URL:https://breatheatlanta.us/events/sound-bath-restorative-yoga/
SUMMARY:Sound Bath & Restorative Yoga
DESCRIPTION:Join us for a transformative journey of relaxation and self-dis
 covery in our Sound Bath &amp\; Restorative Yoga class. This unique experi
 ence invites participants to explore their inner awareness while benefitin
 g from the soothing properties of sound and restorative yoga.\n\nRestorati
 ve Yoga for Deep Relaxation\n\nDuring the restorative yoga portion of the 
 class\, participants will engage in gentle poses held for extended periods
 \, supported by props to ensure comfort and stability. The primary goal of
  restorative yoga is to promote physical\, mental\, and emotional relaxati
 on. By allowing the body to deeply relax in these poses\, individuals can 
 release tension and stress\, leading to a profound sense of well-being.\n\
 nChakra Healing Practices\n\nIn addition to restorative yoga\, attendees w
 ill learn about the chakras—energy centers within the body that can infl
 uence overall health and wellness. The session will cover techniques to ch
 arge and discharge each chakra and incorporate various healing practices. 
 Using Reiki\, participants will work to open\, balance\, and align these e
 ssential energy portals\, enhancing their physical and emotional states.\n
 \nSound Bath Experience\n\nThe sound bath component is a meditative practi
 ce that envelops participants in deep sound vibrations\, promoting relaxat
 ion and healing. This experience helps to quiet the fight-or-flight respon
 se\, encouraging the body to enter a more tranquil state.\n\nEvent Details
 \n\nParticipants are encouraged to bring a journal for reflection and note
 -taking. All mats and props will be provided for your convenience.\n\nTick
 ets and Donations\n\nTickets are priced at $25\, with proceeds benefiting 
 Healing Hands Reiki and Spiritual Development Inc.\, a recognized 501(c)(3
 ) nonprofit organization. As such\, all donations are tax-deductible.\n\nR
 egistration Requirements\n\nAttendees must register via Eventbrite or by p
 hone at least one hour prior to the class. If participants arrive more tha
 n five minutes late\, they are advised to attend the next scheduled class.
  Please note that no shoes are allowed in the shala\, and all shoes should
  be placed in the designated shoe area.\n\nInstructor Profile\n\nThe sessi
 on will be led by Tiffany N. Monroe\, the Founder and CEO of Healing Hands
  Reiki &amp\; Spiritual Development\, Inc. Tiffany holds multiple qualific
 ations\, including:\n\n 	Usui/Holy Fire III® Reiki Master Teacher\n 	Usui
  Shiki Ryoho Reiki Master Teacher\n 	Sekhmet Master Teacher\n 	Seichim Rei
 ki Master Teacher\n 	RYT500 Certified Yoga Teacher\n\nWith her extensive b
 ackground in yoga\, Reiki\, and education\, Tiffany is dedicated to empowe
 ring individuals to participate actively in their healing journeys.\n\nMis
 sion and Vision\n\nHealing Hands Reiki\, Inc. strives to empower individua
 ls to integrate Reiki into their health care systems and community-based o
 rganizations. The organization aims to educate and inspire individuals to 
 utilize their innate healing abilities to achieve balance and optimal livi
 ng.\n\nFollow Us for More Information\n\nStay connected with Healing Hands
  Reiki through our online platforms:\n\n 	Blog: healinghandsreikiatl.org\n
  	Facebook: facebook.com/healinghandsreikiatl\n 	Instagram: instagram.com/
 healinghandsreikiatl\n 	Twitter: twitter.com/healingreikiatl\n 	YouTube: H
 ealing Hands Reiki &amp\; Spiritual Development Inc.\n\nJoin us for this e
 nriching experience that promises to rejuvenate the body\, mind\, and spir
 it.\n\nGET TICKETS\n
ATTACH;FMTTYPE=image/jpeg:https://breatheatlanta.us/wp-content/uploads/202
 4/10/Sound-Bath-Restorative-Yoga.jpg
CATEGORIES:Yoga Events
LOCATION:Healing Hands Reiki & Spiritual Development\, 27 Waddell St NE Sui
 te\, A Atlanta\, Georgia\, 30307\, GA\, United States
X-APPLE-STRUCTURED-LOCATION;VALUE=URI;X-ADDRESS=27 Waddell St NE Suite\, A 
 Atlanta\, Georgia\, 30307\, GA\, United States;X-APPLE-RADIUS=100;X-TITLE=
 Healing Hands Reiki & Spiritual Development:geo:0,0
END:VEVENT
BEGIN:VTIMEZONE
TZID:America/New_York
X-LIC-LOCATION:America/New_York
BEGIN:DAYLIGHT
DTSTART:20240310T030000
TZOFFSETFROM:-0500
TZOFFSETTO:-0400
TZNAME:EDT
END:DAYLIGHT
END:VTIMEZONE
END:VCALENDAR