BEGIN:VCALENDAR
VERSION:2.0
PRODID:-//wp-events-plugin.com//7.2.3.1//EN
TZID:America/New_York
X-WR-TIMEZONE:America/New_York
BEGIN:VEVENT
UID:313@breatheatlanta.us
DTSTART;TZID=America/New_York:20240727T140000
DTEND;TZID=America/New_York:20240727T160000
DTSTAMP:20240909T101555Z
URL:https://breatheatlanta.us/events/sound-chill-a-spring-relief/
SUMMARY:Sound & Chill A Spring Relief
DESCRIPTION:Experience the rejuvenating power of natural healing techniques
  at Sound &amp\; Chill: A Spring Relief. This event invites participants t
 o explore breathwork\, guided meditation\, prayer\, and connection with na
 ture to promote healing and well-being. Whether you're seeking a pick-me-u
 p\, dealing with difficult emotions\, physical discomfort\, or simply in n
 eed of relaxation\, this event is designed to uplift and replenish your sp
 irit. Bring your yoga mat and prepare to release tension and fill yourself
  with love and positivity as you embark on a journey of healing.\n\nEvent 
 Details:\n\n 	Healing Techniques: Participants will engage in various natu
 ral healing modalities including breathwork\, guided meditation\, prayer\,
  and spending time in nature.\n 	Intention: The event is tailored to uplif
 t spirits\, provide solace\, and promote inner healing. It aims to create 
 a supportive and loving space for individuals to heal together.\n 	Bring Y
 our Yoga Mat: Attendees are encouraged to bring their yoga mats to comfort
 ably engage in the healing practices.\n\nBenefits of Attending:\n\n 	Emoti
 onal Release: Explore techniques to process difficult emotions and find in
 ner peace.\n 	Physical Comfort: Experience relief from physical discomfort
  and tension through healing practices.\n 	Connection with Nature: Spendin
 g time in nature can have profound effects on mental and emotional well-be
 ing\, promoting a sense of calm and tranquility.\n 	Community Support: Joi
 n a community of like-minded individuals on a journey of healing and self-
 discovery.\n\nWhy Attend?\n\n 	Healing and Love: Sound &amp\; Chill: A Spr
 ing Relief offers a safe and nurturing environment to release\, rejuvenate
 \, and fill up with love. It's an opportunity to connect with yourself\, o
 thers\, and the healing power of nature.\n 	Unified Mission: The event's m
 ission is to spread love and healing\, fostering a sense of togetherness a
 nd support among participants.\n 	Personal Growth: Engage in practices tha
 t promote personal growth\, resilience\, and well-being.\n\nDon't miss out
  on this chance to replenish your spirit and find solace in a community of
  healing. Bring your yoga mat and join Sound &amp\; Chill: A Spring Relief
  for an evening of relaxation\, connection\, and healing.\n\nGET TICKETS\n
ATTACH;FMTTYPE=image/jpeg:https://breatheatlanta.us/wp-content/uploads/202
 4/06/Sound-Chill-A-Spring-Relief.jpg
CATEGORIES:Featured Events,Mindfulness Events,Wellness Events
LOCATION:Grant Park\, Grant Park Atlanta\, Atlanta\, United States\, GA \, 
 United States
X-APPLE-STRUCTURED-LOCATION;VALUE=URI;X-ADDRESS=Grant Park Atlanta\, Atlant
 a\, United States\, GA \, United States;X-APPLE-RADIUS=100;X-TITLE=Grant P
 ark:geo:0,0
END:VEVENT
BEGIN:VTIMEZONE
TZID:America/New_York
X-LIC-LOCATION:America/New_York
BEGIN:DAYLIGHT
DTSTART:20240310T030000
TZOFFSETFROM:-0500
TZOFFSETTO:-0400
TZNAME:EDT
END:DAYLIGHT
END:VTIMEZONE
END:VCALENDAR