BEGIN:VCALENDAR
VERSION:2.0
PRODID:-//wp-events-plugin.com//7.2.3.1//EN
TZID:America/New_York
X-WR-TIMEZONE:America/New_York
BEGIN:VEVENT
UID:706@breatheatlanta.us
DTSTART;TZID=America/New_York:20241116T070000
DTEND;TZID=America/New_York:20241116T100000
DTSTAMP:20241024T180046Z
URL:https://breatheatlanta.us/events/sound-healing-atlanta/
SUMMARY:Sound Healing - Atlanta
DESCRIPTION:Join a dynamic community of automotive enthusiasts at the Atlan
 ta Sound Healing virtual meetup\, where passion for cars and wellness inte
 rsect. This unique event invites participants to connect with fellow car l
 overs while exploring the therapeutic benefits of sound healing.\n\nAttend
 ees will have the opportunity to engage in discussions about their favorit
 e vehicles\, share insights on the latest automotive trends\, and particip
 ate in interactive sound healing sessions designed to promote relaxation a
 nd mental clarity. Sound healing is an ancient practice that uses sound fr
 equencies to restore balance and harmony within the body\, making it an ex
 cellent complement to the high-energy world of automotive culture.\n\nThe 
 virtual format allows participants to join from the comfort of their own h
 omes while fostering a sense of community and connection. Whether you're a
  seasoned collector\, a DIY enthusiast\, or simply someone who appreciates
  the art of automotive design\, this meetup is the perfect space to share 
 your passion and explore the healing power of sound.\n\nEvent Highlights:\
 n\n 	Engaging discussions on automotive trends and experiences\n 	Interact
 ive sound healing sessions for relaxation\n 	Networking with fellow automo
 tive enthusiasts\n\nJoin the Atlanta Sound Healing meetup for an enriching
  experience that combines automotive passion with the healing arts. Connec
 t\, share\, and rejuvenate!\n\nGET TICKETS\n
ATTACH;FMTTYPE=image/jpeg:https://breatheatlanta.us/wp-content/uploads/202
 4/10/Sound-Healing-Atlanta.jpeg
CATEGORIES:Wellness Events
LOCATION:Atlanta\, Atlanta\, Atlanta\, GA\, GA\, United States
X-APPLE-STRUCTURED-LOCATION;VALUE=URI;X-ADDRESS=Atlanta\, Atlanta\, GA\, GA
 \, United States;X-APPLE-RADIUS=100;X-TITLE=Atlanta:geo:0,0
END:VEVENT
BEGIN:VTIMEZONE
TZID:America/New_York
X-LIC-LOCATION:America/New_York
BEGIN:STANDARD
DTSTART:20241103T010000
TZOFFSETFROM:-0400
TZOFFSETTO:-0500
TZNAME:EST
END:STANDARD
END:VTIMEZONE
END:VCALENDAR