BEGIN:VCALENDAR
VERSION:2.0
PRODID:-//wp-events-plugin.com//7.2.3.1//EN
TZID:America/New_York
X-WR-TIMEZONE:America/New_York
BEGIN:VEVENT
UID:664@breatheatlanta.us
DTSTART;TZID=America/New_York:20241027T110000
DTEND;TZID=America/New_York:20241027T123000
DTSTAMP:20241018T095420Z
URL:https://breatheatlanta.us/events/sound-journey-with-oyah/
SUMMARY:Sound Journey with Oyah
DESCRIPTION:Embark on a soulful journey like no other with Oyah’s Sound J
 ourney\, an immersive event designed to elevate your spirit\, rejuvenate y
 our mind\, and awaken your soul. This powerful experience invites particip
 ants to explore the healing power of sound\, while releasing stress and em
 bracing inner strength.\n\nThroughout the journey\, attendees will be enve
 loped in a meditative atmosphere\, where the rich tones and vibrations of 
 gongs\, crystal singing bowls\, and other instruments harmonize to create 
 a deeply restorative experience. Each sound wave is crafted to soothe the 
 mind\, quiet the noise of daily life\, and bring clarity to your inner bei
 ng.\n\nWhether you're searching for relaxation\, seeking inspiration\, or 
 simply needing a reprieve from the everyday grind\, the Sound Journey offe
 rs a space for transformation and self-reflection. Engage with a community
  of like-minded individuals\, all coming together to reconnect with themse
 lves and one another through the power of sound and intention.\n\nThis exp
 erience is perfect for anyone looking to recharge their energy\, find bala
 nce\, or tap into a deeper sense of peace. Allow the rhythms to guide you 
 toward inner harmony and leave feeling refreshed\, uplifted\, and grounded
 .\n\nDon’t miss this unforgettable evening of spiritual renewal and conn
 ection!\n\nGET TICKETS\n
ATTACH;FMTTYPE=image/jpeg:https://breatheatlanta.us/wp-content/uploads/202
 4/10/Sound-Journey-with-Oyah.jpg
CATEGORIES:Things To Do
LOCATION:1269 Pryor Rd SW\, 1269 Pryor Road Southwest Atlanta\, Atlanta\, G
 eorgia\, 30315\,  GA\, United States
X-APPLE-STRUCTURED-LOCATION;VALUE=URI;X-ADDRESS=1269 Pryor Road Southwest A
 tlanta\, Atlanta\, Georgia\, 30315\,  GA\, United States;X-APPLE-RADIUS=10
 0;X-TITLE=1269 Pryor Rd SW:geo:0,0
END:VEVENT
BEGIN:VTIMEZONE
TZID:America/New_York
X-LIC-LOCATION:America/New_York
BEGIN:DAYLIGHT
DTSTART:20240310T030000
TZOFFSETFROM:-0500
TZOFFSETTO:-0400
TZNAME:EDT
END:DAYLIGHT
END:VTIMEZONE
END:VCALENDAR