BEGIN:VCALENDAR
VERSION:2.0
PRODID:-//wp-events-plugin.com//7.2.3.1//EN
TZID:America/New_York
X-WR-TIMEZONE:America/New_York
BEGIN:VEVENT
UID:684@breatheatlanta.us
DTSTART;TZID=America/New_York:20241127T200000
DTEND;TZID=America/New_York:20241127T210000
DTSTAMP:20241024T150113Z
URL:https://breatheatlanta.us/events/soundbath-exploring-meditation-2/
SUMMARY:SoundBath. Exploring Meditation.
DESCRIPTION:\n\n\n\n\nSoundBath: Exploring Meditation at Energy Works ATL o
 ffers a transformative experience\, merging the calming power of sound and
  meditation. This in-person event invites participants to immerse themselv
 es in the mesmerizing tones of crystal bowls\, tapping into the healing po
 tential of sound therapy.\n\nAttendees will be guided on a meditative jour
 ney\, where the resonating vibrations from the bowls create a profound sen
 se of calm and relaxation. This unique sound bath provides a peaceful envi
 ronment where individuals can explore meditation and practice mindfulness\
 , cultivating a deeper connection to their mind\, body\, and spirit.\n\nTh
 e sound bath experience goes beyond relaxation. It promotes inner harmony\
 , stress relief\, and emotional balance. As the soothing sounds wash over 
 participants\, they are encouraged to release tension\, unwind\, and rejuv
 enate. Whether you're new to meditation or a seasoned practitioner\, this 
 event offers a nurturing space to deepen your practice and experience the 
 profound benefits of sound healing.\n\nLocated in the heart of Atlanta\, E
 nergy Works ATL provides the perfect setting for this calming and restorat
 ive event. Mats and blankets are provided to ensure comfort throughout the
  session\, though guests are welcome to bring additional items for their c
 onvenience.\n\nDon't miss out on this incredible opportunity to relax\, re
 charge\, and explore meditation through sound. Reserve your spot now for t
 he SoundBath: Exploring Meditation and treat yourself to an evening of inn
 er peace and renewal.\n\n\n\n\n\n\nGET TICKETS\n
ATTACH;FMTTYPE=image/jpeg:https://breatheatlanta.us/wp-content/uploads/202
 4/10/SoundBath.-Exploring-Meditation.jpg
CATEGORIES:Wellness Events
LOCATION:Energy Works ATL\, 1215 Hightower Trail Building D\, Suite 101 Atl
 anta\, GA 30350\, Atlanta\, GA\, 30350\, GA\, United States
X-APPLE-STRUCTURED-LOCATION;VALUE=URI;X-ADDRESS=1215 Hightower Trail Buildi
 ng D\, Suite 101 Atlanta\, GA 30350\, Atlanta\, GA\, 30350\, GA\, United S
 tates;X-APPLE-RADIUS=100;X-TITLE=Energy Works ATL:geo:0,0
END:VEVENT
BEGIN:VTIMEZONE
TZID:America/New_York
X-LIC-LOCATION:America/New_York
BEGIN:STANDARD
DTSTART:20241103T010000
TZOFFSETFROM:-0400
TZOFFSETTO:-0500
TZNAME:EST
END:STANDARD
END:VTIMEZONE
END:VCALENDAR