BEGIN:VCALENDAR
VERSION:2.0
PRODID:-//wp-events-plugin.com//7.2.3.1//EN
TZID:America/New_York
X-WR-TIMEZONE:America/New_York
BEGIN:VEVENT
UID:333@breatheatlanta.us
DTSTART;TZID=America/New_York:20240731T200000
DTEND;TZID=America/New_York:20240731T210000
DTSTAMP:20240628T221757Z
URL:https://breatheatlanta.us/events/soundbath-exploring-meditation/
SUMMARY:SoundBath. Exploring Meditation
DESCRIPTION:Experience the magic of sound healing at Energy Works ATL's Sou
 ndBath: Exploring Meditation event. Dive into a transformative and soothin
 g journey as you immerse yourself in the enchanting sounds of crystal bowl
 s and explore the depths of meditation.\n\nWhat to Expect:\n\nPrepare for 
 an immersive experience that will harmonize your mind\, body\, and spirit.
  Let the resonating vibrations of crystal bowls guide you into a state of 
 deep relaxation and inner peace.\n\nActivities:\n\n 	Sound Healing: Experi
 ence the healing power of sound as you bathe in the soothing vibrations of
  crystal bowls.\n 	Meditation: Explore various meditation techniques to cu
 ltivate mindfulness and inner tranquility.\n 	Group Atmosphere: Connect wi
 th like-minded individuals in a supportive and welcoming environment.\n\nW
 hy Attend:\n\n 	Deep Relaxation: Allow yourself to unwind and rejuvenate a
 midst the calming sounds of the crystal bowls.\n 	Mindfulness: Discover th
 e profound benefits of meditation as you cultivate a sense of inner peace 
 and presence.\n 	Healing: Experience the transformative effects of sound h
 ealing on your overall well-being.\n\nJoin Us:\n\nDon't miss this incredib
 le opportunity to explore the synergy of sound healing and meditation at E
 nergy Works ATL. Reserve your spot now to embark on a journey of relaxatio
 n\, rejuvenation\, and self-discovery in the heart of Atlanta!\n\nGET TICK
 ETS\n
ATTACH;FMTTYPE=image/jpeg:https://breatheatlanta.us/wp-content/uploads/202
 4/06/SoundBath.-Exploring-Meditation.jpg
CATEGORIES:Featured Events,Mindfulness Events,Wellness Events
LOCATION:Energy Works ATL\, 1215 Hightower Trail Building D\, Suite 101 Atl
 anta\, GA 30350\, Atlanta\, GA\, 30350\, GA\, United States
X-APPLE-STRUCTURED-LOCATION;VALUE=URI;X-ADDRESS=1215 Hightower Trail Buildi
 ng D\, Suite 101 Atlanta\, GA 30350\, Atlanta\, GA\, 30350\, GA\, United S
 tates;X-APPLE-RADIUS=100;X-TITLE=Energy Works ATL:geo:0,0
END:VEVENT
BEGIN:VTIMEZONE
TZID:America/New_York
X-LIC-LOCATION:America/New_York
BEGIN:DAYLIGHT
DTSTART:20240310T030000
TZOFFSETFROM:-0500
TZOFFSETTO:-0400
TZNAME:EDT
END:DAYLIGHT
END:VTIMEZONE
END:VCALENDAR