BEGIN:VCALENDAR
VERSION:2.0
PRODID:-//wp-events-plugin.com//7.2.3.1//EN
TZID:America/New_York
X-WR-TIMEZONE:America/New_York
BEGIN:VEVENT
UID:686@breatheatlanta.us
DTSTART;TZID=America/New_York:20241124T160000
DTEND;TZID=America/New_York:20241124T170000
DTSTAMP:20241024T151530Z
URL:https://breatheatlanta.us/events/soundbath-meditation-4/
SUMMARY:Soundbath Meditation
DESCRIPTION:Sound bath meditation is a deeply immersive auditory experience
  that promotes holistic healing and relaxation throughout the body. During
  a sound bath\, participants are enveloped in soothing sound waves and fre
 quencies\, which are generated by a variety of healing instruments such as
  gongs\, singing bowls\, drums\, chimes\, rattles\, and sometimes even the
  human voice. These resonant sounds facilitate therapeutic and restorative
  processes\, helping to calm the mind\, ease physical tension\, and balanc
 e the body’s energy. The practice creates a meditative state where the i
 ndividual can experience profound relaxation and emotional release\, foste
 ring overall well-being and tranquility.\n\nGET TICKETS\n
ATTACH;FMTTYPE=image/jpeg:https://breatheatlanta.us/wp-content/uploads/202
 4/10/Soundbath-Meditation-1.jpeg
CATEGORIES:Wellness Events
LOCATION:Phoenix and Dragon\, 5531 Roswell road NE Sandy Springs\, NE Sandy
  Springs\, California\, 30342\, GA\, United States
X-APPLE-STRUCTURED-LOCATION;VALUE=URI;X-ADDRESS=5531 Roswell road NE Sandy 
 Springs\, NE Sandy Springs\, California\, 30342\, GA\, United States;X-APP
 LE-RADIUS=100;X-TITLE=Phoenix and Dragon:geo:0,0
END:VEVENT
BEGIN:VTIMEZONE
TZID:America/New_York
X-LIC-LOCATION:America/New_York
BEGIN:STANDARD
DTSTART:20241103T010000
TZOFFSETFROM:-0400
TZOFFSETTO:-0500
TZNAME:EST
END:STANDARD
END:VTIMEZONE
END:VCALENDAR