BEGIN:VCALENDAR
VERSION:2.0
PRODID:-//wp-events-plugin.com//7.2.3.1//EN
TZID:America/New_York
X-WR-TIMEZONE:America/New_York
BEGIN:VEVENT
UID:319@breatheatlanta.us
DTSTART;TZID=America/New_York:20240714T160000
DTEND;TZID=America/New_York:20240714T170000
DTSTAMP:20240627T044627Z
URL:https://breatheatlanta.us/events/soundbath-meditation/
SUMMARY:Soundbath Meditation
DESCRIPTION:Discover the transformative power of sound with Soundbath Medit
 ation\, a deeply immersive and therapeutic experience designed to restore 
 and rejuvenate the body\, mind\, and spirit. During this meditative journe
 y\, participants are enveloped in a symphony of sound waves and frequencie
 s produced by healing instruments such as gongs\, singing bowls\, drums\, 
 chimes\, rattles\, and even the human voice.\n\nExperience Details:\n\n 	I
 mmersive Experience: A sound bath is a holistic listening experience where
  participants are fully immersed in the healing vibrations and frequencies
  of various instruments.\n 	Therapeutic Restorative Processes: The sound w
 aves produced by these instruments are believed to induce powerful therape
 utic and restorative processes throughout the entire body.\n 	Healing Inst
 ruments: Participants will be surrounded by the soothing sounds of gongs\,
  singing bowls\, drums\, chimes\, rattles\, and vocal tones\, creating a m
 ulti-dimensional sonic experience.\n\nBenefits of Soundbath Meditation:\n\
 n 	Deep Relaxation: Experience deep relaxation as the soothing sounds wash
  over you\, calming the mind and body.\n 	Stress Reduction: The therapeuti
 c effects of sound can help reduce stress and tension\, promoting a sense 
 of peace and well-being.\n 	Mind-Body Connection: Soundbath meditation can
  deepen your connection to your body and inner self\, enhancing overall we
 llness.\n\nWhy Attend?\n\n 	Holistic Wellness: Soundbath meditation offers
  a holistic approach to well-being\, addressing physical\, mental\, and em
 otional aspects of health.\n 	Transformative Experience: Immerse yourself 
 in the healing vibrations of sound and experience a profound sense of rela
 xation and renewal.\n 	Accessible to All: Suitable for beginners and exper
 ienced meditators alike\, soundbath meditation requires no prior experienc
 e and offers a welcoming space for all.\n\nDiscover the power of sound to 
 restore and rejuvenate. Join us for Soundbath Meditation and immerse yours
 elf in a sonic journey that will leave you feeling deeply relaxed\, refres
 hed\, and revitalized.\n\nGET TICKETS\n
ATTACH;FMTTYPE=image/jpeg:https://breatheatlanta.us/wp-content/uploads/202
 4/06/Soundbath-Meditation.jpg
CATEGORIES:Mindfulness Events,Wellness Events
LOCATION:Phoenix and Dragon\, 5531 Roswell road NE Sandy Springs\, Atlanta\
 , Georgia\, 30342\, GA \, United States
X-APPLE-STRUCTURED-LOCATION;VALUE=URI;X-ADDRESS=5531 Roswell road NE Sandy 
 Springs\, Atlanta\, Georgia\, 30342\, GA \, United States;X-APPLE-RADIUS=1
 00;X-TITLE=Phoenix and Dragon:geo:0,0
END:VEVENT
BEGIN:VTIMEZONE
TZID:America/New_York
X-LIC-LOCATION:America/New_York
BEGIN:DAYLIGHT
DTSTART:20240310T030000
TZOFFSETFROM:-0500
TZOFFSETTO:-0400
TZNAME:EDT
END:DAYLIGHT
END:VTIMEZONE
END:VCALENDAR