BEGIN:VCALENDAR
VERSION:2.0
PRODID:-//wp-events-plugin.com//7.2.3.1//EN
TZID:America/New_York
X-WR-TIMEZONE:America/New_York
BEGIN:VEVENT
UID:177@breatheatlanta.us
DTSTART;TZID=America/New_York:20240413T130000
DTEND;TZID=America/New_York:20240413T153000
DTSTAMP:20240329T063524Z
URL:https://breatheatlanta.us/events/spa-wellness-event/
SUMMARY:Spa & Wellness Event
DESCRIPTION:Unwind and recharge at our Spa &amp\; Wellness Event\, where re
 laxation awaits! Treat yourself to soothing massages\, invigorating yoga s
 essions\, and much more. It's the perfect opportunity to decompress and in
 dulge in self-care.\n\nEvent Information:\n\nEvent Name: Spa &amp\; Wellne
 ss Event\n\nDate and Time: Saturday\, April 13\, 1:00 PM - 3:30 PM EDT.\n\
 nLocation: Noir Pearl Spa\, 4833 South Cobb Drive Southeast Suite 300\, Sm
 yrna\, GA 30080\, United States\n\nTicket Price: General Admission: $20.00
  (+$3.18 Fee / +$1.39 Sales Tax) until April 13\, 2024\n\nGET TICKETS\n\n\
 n\nAbout this Event: Indulge in relaxation and rejuvenation at our Spa &am
 p\; Wellness Event! Life can be demanding\, leaving us feeling burnt out. 
 Take a break and treat yourself to a variety of rejuvenating activities in
 cluding a stress workshop\, yoga\, massages\, meditation\, and healthy eat
 s. Hosted by Noir Pearl Spa &amp\; Embodied Ally\, this event promises 2 h
 ours and 30 minutes of pure bliss.\n\nUnwind in the luxurious spa ambiance
  and experience the pinnacle of self-care. Our expert therapists will ensu
 re you leave feeling refreshed and renewed. Don't miss out on this chance 
 to prioritize your well-being and treat yourself to a day of self-care.\n\
 nWorkout Session Detail: Stress workshop\, yoga\, massages\, meditation\, 
 and healthy eats are included.\n\nEssentials to Bring: Come in relaxed/yog
 a attire.\n\nRefund Policy: Refunds available up to 7 days before the even
 t. Eventbrite's fee is nonrefundable.\n\nParking Options: Parking informat
 ion not provided. Please check local parking availability.\n\n
ATTACH;FMTTYPE=image/jpeg:https://breatheatlanta.us/wp-content/uploads/202
 4/03/https___cdn.evbuc_.com_images_729051639_1791240491783_1_original.jpeg
CATEGORIES:Wellness Events,Yoga Events
LOCATION:Noir Pearl Spa\, 4833 South Cobb Drive Southeast Suite 300 Smyrna\
 , GA 30080 United States\, GA\, United States\,  30080 \, GA\, United Stat
 es
X-APPLE-STRUCTURED-LOCATION;VALUE=URI;X-ADDRESS=4833 South Cobb Drive South
 east Suite 300 Smyrna\, GA 30080 United States\, GA\, United States\,  300
 80 \, GA\, United States;X-APPLE-RADIUS=100;X-TITLE=Noir Pearl Spa:geo:0,0
END:VEVENT
BEGIN:VTIMEZONE
TZID:America/New_York
X-LIC-LOCATION:America/New_York
BEGIN:DAYLIGHT
DTSTART:20240310T030000
TZOFFSETFROM:-0500
TZOFFSETTO:-0400
TZNAME:EDT
END:DAYLIGHT
END:VTIMEZONE
END:VCALENDAR