BEGIN:VCALENDAR
VERSION:2.0
PRODID:-//wp-events-plugin.com//7.2.3.1//EN
TZID:America/New_York
X-WR-TIMEZONE:America/New_York
BEGIN:VEVENT
UID:633@breatheatlanta.us
DTSTART;TZID=America/New_York:20241110T140000
DTEND;TZID=America/New_York:20241110T160000
DTSTAMP:20241014T114644Z
URL:https://breatheatlanta.us/events/spain-uncorked/
SUMMARY:Spain UNCORKED
DESCRIPTION:Spain UNCORKED invites you to embark on a wine-fueled journey t
 hrough the extraordinary wine regions of Spain. This event showcases the r
 ich diversity of Spanish wines\, offering a selection of 30 handpicked bot
 tles from an extensive wine list. To complement the wines\, a unique culin
 ary experience awaits\, featuring a seasonal paella and a variety of tapas
 \, specially crafted by the chef to bring out the best flavors.\n\nSpanish
  wines are known for their incredible range\, from the iconic and beloved 
 reds of Rioja and Priorat to the volcanic\, mineral-driven wines of the Ca
 nary Islands. Guests will also enjoy the crisp and vibrant Txakolinas from
  the Basque region\, among many other exceptional varieties. These wines r
 epresent the heart of Spain\, each bottle carrying the stories of the wine
 makers and vineyards behind them.\n\nSpain UNCORKED's wine collection is o
 ne of the largest in the country\, meticulously curated through countless 
 visits to Spain's countryside. Each trip involved scaling the hillsides of
  Spain’s vineyards and sitting down with passionate winemakers to discov
 er the very best. Now\, the team is eager to share these treasures with wi
 ne enthusiasts\, offering a chance to uncork and explore the essence of Sp
 ain.\n\nEvent Highlights:\n\n 	Explore: 30 diverse Spanish wines\n 	Experi
 ence: Seasonal paella and tapas\n 	Wine Regions: From Rioja and Priorat to
  the Canary Islands and Basque Country\n\nJoin this incredible celebration
  of Spain's wine and culinary heritage\, and experience the stories\, flav
 ors\, and passion behind each bottle. The only thing left to do is raise y
 our glass and savor the moment!\n\nGET TICKETS\n
ATTACH;FMTTYPE=image/jpeg:https://breatheatlanta.us/wp-content/uploads/202
 4/10/Spain-UNCORKED.png
CATEGORIES:Wellness Events
LOCATION:Barcelona Wine Bar Inman Park\, 240 North Highland Ave\, NE Atlant
 a\, Georgia\, 30307\, GA\, United States
X-APPLE-STRUCTURED-LOCATION;VALUE=URI;X-ADDRESS=240 North Highland Ave\, NE
  Atlanta\, Georgia\, 30307\, GA\, United States;X-APPLE-RADIUS=100;X-TITLE
 =Barcelona Wine Bar Inman Park:geo:0,0
END:VEVENT
BEGIN:VTIMEZONE
TZID:America/New_York
X-LIC-LOCATION:America/New_York
BEGIN:STANDARD
DTSTART:20241103T010000
TZOFFSETFROM:-0400
TZOFFSETTO:-0500
TZNAME:EST
END:STANDARD
END:VTIMEZONE
END:VCALENDAR