BEGIN:VCALENDAR
VERSION:2.0
PRODID:-//wp-events-plugin.com//7.2.3.1//EN
TZID:America/New_York
X-WR-TIMEZONE:America/New_York
BEGIN:VEVENT
UID:525@breatheatlanta.us
DTSTART;TZID=America/New_York:20241026T120000
DTEND;TZID=America/New_York:20241027T160000
DTSTAMP:20240930T095405Z
URL:https://breatheatlanta.us/events/spelhouse-2009-sweet-15-year-homecomi
 ng-tailgate-tent-brunch-experience/
SUMMARY:SpelHouse 2009 - Sweet 15 Year Homecoming Tailgate Tent & Brunch Ex
 perience
DESCRIPTION:SpelHouse 2009 is gearing up for an unforgettable Sweet 15 Year
  Homecoming Tailgate Tent &amp\; Brunch Experience as part of SpelHouse Ho
 mecoming 2024! Five years ago\, the Class of 2009 gathered on Red Clay Hil
 l to celebrate a decade of alumnihood\, and now\, it’s time to mark the 
 15-year milestone in style.\n\nThe Spelman and Morehouse Class Councils ha
 ve curated an elevated homecoming experience\, reflecting the importance o
 f this anniversary. If you joined the #Sweet15Reunion weekend in May\, the
 n you know the expectations are high for this celebration.\nSaturday\, Oct
 ober 26th\, 2024\nSpelHouse Class of ‘09 Tent and Lounge @ Tailgate Hill
 \, Morehouse College\n12 PM - 8 PM\n\nSituated just steps away from the bu
 stling tailgate scene\, the official Class of ‘09 tent and lounge will o
 ffer a refined space for you to relax\, enjoy\, and celebrate. Inside the 
 lounge\, your senses will be treated to DJ beats\, delicious food\, and cu
 rated cocktails\, ensuring a lively and festive atmosphere all afternoon. 
 Vibe out with your fellow ‘09 classmates at the peak of homecoming!\n\nY
 our ticket includes access to the Class of ‘09 lounge\, featuring activa
 tion by BlackOps Productions\, complimentary food\, and bottomless special
 ty cocktails until 8 PM. Details about the DJ\, caterer\, and a commemorat
 ive class gift are coming soon.\n\nImportant note: You must purchase a sep
 arate ticket through the Morehouse College website to gain access to the c
 ampus tailgate.\nSunday\, October 27th\, 2024\nSpelHouse Class of ‘09 Br
 unch @ Tulum Kitchen and Bar\n12 PM - 2 PM\n\nAs the final hoorah of the w
 eekend\, join your classmates for a brunch celebration to close out the 15
 -year anniversary. Reminisce over great memories with a brunch buffet and 
 enjoy two complimentary mimosas. The brunch will run until 2 PM\, and furt
 her details on the DJ and menu will be shared closer to the date.\n\nWe wa
 nt to honor the Spelman and Morehouse College Class of 2009 on their 15th 
 anniversary! Be sure to follow @Spelhouse2009 on Instagram for updates. Fo
 r any questions\, comments\, or sponsorship opportunities\, email us at sp
 elhouse2009@gmail.com.\n\nLet’s make this homecoming one to remember!\n#
 Sweet15YearHomecomingAnniversary\n#SpelHouseHomecoming24
ATTACH;FMTTYPE=image/jpeg:https://breatheatlanta.us/wp-content/uploads/202
 4/09/SpelHouse-2009-Sweet-15-Year-Homecoming-Tailgate-Tent-Brunch-Experien
 ce.jpg
CATEGORIES:Sports &amp; Fitness Events
LOCATION:Morehouse College\, 830 Westview Drive\, Southwest Atlanta\, Georg
 ia\, 30314\, GA\, United States
X-APPLE-STRUCTURED-LOCATION;VALUE=URI;X-ADDRESS=830 Westview Drive\, Southw
 est Atlanta\, Georgia\, 30314\, GA\, United States;X-APPLE-RADIUS=100;X-TI
 TLE=Morehouse College:geo:0,0
END:VEVENT
BEGIN:VTIMEZONE
TZID:America/New_York
X-LIC-LOCATION:America/New_York
BEGIN:DAYLIGHT
DTSTART:20240310T030000
TZOFFSETFROM:-0500
TZOFFSETTO:-0400
TZNAME:EDT
END:DAYLIGHT
END:VTIMEZONE
END:VCALENDAR