BEGIN:VCALENDAR
VERSION:2.0
PRODID:-//wp-events-plugin.com//7.2.3.1//EN
TZID:America/New_York
X-WR-TIMEZONE:America/New_York
BEGIN:VEVENT
UID:638@breatheatlanta.us
DTSTART;TZID=America/New_York:20241022T180000
DTEND;TZID=America/New_York:20241022T200000
DTSTAMP:20241018T073045Z
URL:https://breatheatlanta.us/events/spooky-season-book-fair-for-grownups/
SUMMARY:Spooky Season: Book Fair for Grownups
DESCRIPTION:The Spooky Season: Book Fair for Grownups is set to enchant lit
 erature enthusiasts this fall! Taking place at Horton's Books &amp\; Gifts
 \, this event promises a delightful celebration of all things literary\, w
 ith a particular focus on genres that capture the eerie essence of the sea
 son.\n\nWhether you are a fan of horror\, mystery\, or thrillers\, this bo
 ok fair offers an extensive selection that caters to every adult reader's 
 taste. Attendees will have the opportunity to peruse a diverse range of ti
 tles\, allowing them to find the perfect book to curl up with during those
  crisp autumn evenings.\n\nIn addition to browsing the captivating collect
 ion\, guests will have the chance to connect with fellow book lovers\, sha
 re recommendations\, and immerse themselves in a community of like-minded 
 individuals. Who knows? You might stumble upon your next favorite read whi
 le exploring the shelves!\n\nEach ticket for this engaging event includes 
 a specially designed tote bag for carrying your literary finds\, a refresh
 ing punch\, and light snacks to keep your energy up while you shop. To mak
 e the experience even sweeter\, attendees will receive a 10% discount on t
 heir total purchase\, ensuring that you can indulge in your book-buying sp
 ree guilt-free.\n\nDon't miss this unique opportunity to embrace the spiri
 t of Halloween with a grown-up twist. Join us for an unforgettable evening
  of literature\, camaraderie\, and seasonal fun at the Spooky Season: Book
  Fair for Grownups!\n\nGET TICKETS\n
ATTACH;FMTTYPE=image/jpeg:https://breatheatlanta.us/wp-content/uploads/202
 4/10/Spooky-Season-Book-Fair-for-Grownups.jpg
CATEGORIES:Things To Do
LOCATION:Horton's Books & Gifts\, 410 Adamson Square Carrollton\, Atlanta\,
  Georgia\, 30117\, GA\, United States
X-APPLE-STRUCTURED-LOCATION;VALUE=URI;X-ADDRESS=410 Adamson Square Carrollt
 on\, Atlanta\, Georgia\, 30117\, GA\, United States;X-APPLE-RADIUS=100;X-T
 ITLE=Horton's Books & Gifts:geo:0,0
END:VEVENT
BEGIN:VTIMEZONE
TZID:America/New_York
X-LIC-LOCATION:America/New_York
BEGIN:DAYLIGHT
DTSTART:20240310T030000
TZOFFSETFROM:-0500
TZOFFSETTO:-0400
TZNAME:EDT
END:DAYLIGHT
END:VTIMEZONE
END:VCALENDAR