BEGIN:VCALENDAR
VERSION:2.0
PRODID:-//wp-events-plugin.com//7.2.3.1//EN
TZID:America/New_York
X-WR-TIMEZONE:America/New_York
BEGIN:VEVENT
UID:129@breatheatlanta.us
DTSTART;TZID=America/New_York:20240412T170000
DTEND;TZID=America/New_York:20240412T200000
DTSTAMP:20240323T092838Z
URL:https://breatheatlanta.us/events/spring-forward-skin-wellness-event/
SUMMARY:Spring Forward Skin & Wellness Event
DESCRIPTION:\n\n\n\n\n\n\n\n\n\n\n\n\nExperience an exclusive community eve
 nt at Divine Dermatology &amp\; Aesthetics! Join us for an unparalleled ga
 thering where community members come together to explore the latest in ski
 ncare and wellness.\n\nEvent Information:\n\n 	Event Name: Spring Forward 
 Skin &amp\; Wellness Event\n 	Hosted By: Divine Dermatology &amp\; Aesthet
 ics\n 	Date and Time: Friday\, April 12\, 2024\, from 5:00 PM to 8:00 PM E
 DT\n 	Location: Divine Dermatology &amp\; Aesthetics\, 1039 Grant Street S
 outheast A-11\, Atlanta\, GA 30315\, United States\n\nAbout This Event:\n\
 nAn Exclusive Community Event at Divine Dermatology &amp\; Aesthetics! Thi
 s event is a collaboration with Morehouse School of Medicine's All of Us r
 esearch program\, Levels 2 Skin\, and Jeuveau. Attendees will have the opp
 ortunity to:\n\n 	Gain insights into the groundbreaking research conducted
  by Morehouse School of Medicine's All of Us program.\n 	Explore clinical 
 research opportunities available at Divine Dermatology &amp\; Aesthetics.\
 n 	Learn about Skincare &amp\; Anti-aging from Levels 2 Skin.\n 	Learn whe
 n to incorporate Jeuveau and other neurotoxins into your skincare regimen.
 \n 	Enjoy complimentary consultations with skilled aestheticians.\n 	Parti
 cipate in exciting giveaways\, prizes\, and delicious food.\n\nTicket Info
 rmation:\n\nAdmission to the event is free. Please RSVP to secure your spo
 t at this exclusive event. Feel free to bring friends and family along to 
 join in the festivities!\n\n&nbsp\;\n\nGET TICKETS\n\nThis event promises 
 to provide valuable insights into achieving wellness and radiant\, healthy
  skin.\n\n\n\n\n\n\n\n\n\n\n\n\n
ATTACH;FMTTYPE=image/jpeg:https://breatheatlanta.us/wp-content/uploads/202
 4/03/https-__cdn.evbuc_.com_images_722544199_1054867784273_1_original.png
CATEGORIES:Wellness Events
LOCATION:Divine Dermatology & Aesthetics\, 1039 Grant Street Southeast A-11
  Atlanta\, GA 30315 United States\, GA \, United States\, 30315 \, GA\, Un
 ited States
X-APPLE-STRUCTURED-LOCATION;VALUE=URI;X-ADDRESS=1039 Grant Street Southeast
  A-11 Atlanta\, GA 30315 United States\, GA \, United States\, 30315 \, GA
 \, United States;X-APPLE-RADIUS=100;X-TITLE=Divine Dermatology & Aesthetic
 s:geo:0,0
END:VEVENT
BEGIN:VTIMEZONE
TZID:America/New_York
X-LIC-LOCATION:America/New_York
BEGIN:DAYLIGHT
DTSTART:20240310T030000
TZOFFSETFROM:-0500
TZOFFSETTO:-0400
TZNAME:EDT
END:DAYLIGHT
END:VTIMEZONE
END:VCALENDAR