BEGIN:VCALENDAR
VERSION:2.0
PRODID:-//wp-events-plugin.com//7.2.3.1//EN
TZID:America/New_York
X-WR-TIMEZONE:America/New_York
BEGIN:VEVENT
UID:238@breatheatlanta.us
DTSTART;TZID=America/New_York:20240427T100000
DTEND;TZID=America/New_York:20240427T130000
DTSTAMP:20240409T154329Z
URL:https://breatheatlanta.us/events/spring-into-wellness-employee-event/
SUMMARY:Fulton County Schools Spring into Wellness Employee Event
DESCRIPTION:\nCelebrate Well-being with Fulton County Schools!\nCalling all
  Fulton County Schools employees! Join us for the Spring into Wellness Emp
 loyee Event\, a fun-filled celebration focused on your well-being.\nFocus 
 on Your Four Pillars:\nThis event aligns with the Fulton Cares initiative\
 , recognizing the importance of four key areas for a healthy life:\n\n\n 	
 Physical Wellness: Learn about healthy habits and activities to keep your 
 body strong.\n 	Nutritional Wellness: Discover tips on healthy eating and 
 making smart food choices.\n 	Mental Wellness: Explore strategies for mana
 ging stress and promoting emotional well-being.\n 	Financial Wellness: Gai
 n insights on financial planning and achieving financial security.\n\nA Da
 y of Fun and Learning:\nThis exciting event offers something for everyone:
 \n\n\n 	Engaging Games: Participate in interactive games that make learnin
 g about wellness fun.\n 	Informative Demonstrations: Witness live demonstr
 ations showcasing various wellness practices.\n 	Valuable Information: Gai
 n access to a wealth of information on topics related to your well-being.\
 n 	Supportive Community: Connect with fellow employees\, school board memb
 ers\, and community partners.\n 	Employee Vendors &amp\; Prizes: Browse un
 ique offerings by employee vendors and enter to win exciting prizes.\n 	Sp
 ecial Gift for All: Everyone attending will leave with a special gift to r
 emember the day.\n\nRegister Today!\nSpaces are limited\, so don't delay! 
 Register now to secure your spot at this exciting event.\nHere's what to d
 o:\n\n\n 	Register: Sign up for the event\, ensuring a ticket for each att
 ending person (yourself\, guests\, and children).\n 	Review Waiver: Famili
 arize yourself with the event waiver (available online: [link to waiver]).
  You can email a signed copy or bring it with you.\n 	Join the Celebration
 : Come ready for a fun-filled day focused on your well-being!\n\nLet's cel
 ebrate the importance of employee wellness together!\nSee you at the Sprin
 g into Wellness Employee Event!\n\n\n\nBOOK SPOTS\n
ATTACH;FMTTYPE=image/jpeg:https://breatheatlanta.us/wp-content/uploads/202
 4/04/https___cdn.evbuc_.com_images_726123349_146172973125_1_original-1.jpe
 g
CATEGORIES:Wellness Events
LOCATION:Powers Ferry Road\, Powers Ferry Road\, Atlanta\, Georgia\, 30339\
 , United States
X-APPLE-STRUCTURED-LOCATION;VALUE=URI;X-ADDRESS=Powers Ferry Road\, Atlanta
 \, Georgia\, 30339\, United States;X-APPLE-RADIUS=100;X-TITLE=Powers Ferry
  Road:geo:0,0
END:VEVENT
BEGIN:VTIMEZONE
TZID:America/New_York
X-LIC-LOCATION:America/New_York
BEGIN:DAYLIGHT
DTSTART:20240310T030000
TZOFFSETFROM:-0500
TZOFFSETTO:-0400
TZNAME:EDT
END:DAYLIGHT
END:VTIMEZONE
END:VCALENDAR