BEGIN:VCALENDAR
VERSION:2.0
PRODID:-//wp-events-plugin.com//7.2.3.1//EN
TZID:America/New_York
X-WR-TIMEZONE:America/New_York
BEGIN:VEVENT
UID:227@breatheatlanta.us
DTSTART;TZID=America/New_York:20240504T130000
DTEND;TZID=America/New_York:20240504T160000
DTSTAMP:20240404T100730Z
URL:https://breatheatlanta.us/events/standing-on-self-care-a-health-and-we
 llness-workshop-for-teenage-girls/
SUMMARY:"Standing On Self Care" A Health And Wellness Workshop For Teenage 
 Girls
DESCRIPTION:"Catered to teenage girls aged 12-17\, this event boasts a pane
 l of 5 Certified Mental Health and Wellness professionals\, alongside offe
 rings of delicious food &amp\; drinks\, a swag bag\, and plenty of fun-fil
 led activities!"\n\nEvent Information:\n\nEvent Name: "Standing On Self Ca
 re" - A Health And Wellness Workshop For Teenage Girls\n\nHost: Alpha Gamm
 a Chapter - Gamma Phi Delta Sorority Inc\n\nDate and Time: Saturday\, May 
 4 • 1:00 - 4:00pm EDT\n\nLocation: 580 Fort Street Northeast #a Marietta
 \, GA 30060 United States\n\nAbout this Event:\n\nThe Youth Committee of t
 he Alpha Gamma Chapter of Gamma Phi Delta Sorority\, Incorporated\, is thr
 illed to announce its first annual Teen Workshop for Mental Health\, Welln
 ess\, and Self-care awareness tailored for teenage girls aged 12-17. This 
 event is dedicated to empowering young girls with the tools and knowledge 
 to prioritize their mental and physical well-being. Attendees will have th
 e opportunity to engage with a panel of 5 certified Mental Health and Well
 ness professionals\, enjoy food &amp\; drinks\, receive a swag bag\, and p
 articipate in various fun activities.\n\nTicket Information:\n\nTicket Pri
 ce: Free\n\nSales End: May 1\, 2024\n\nAdditional Information: Fees and ta
 xes will be calculated before placing your order.\n\nGET TICKETS\n\nWorkou
 t Session Detail:\n\nDuration: 3 hours\n\nFeatures: Panel discussion\, Foo
 d &amp\; Drinks\, Swag Bag\n\nEssential for Attendees:\n\nAge requirement:
  Teenage girls ages 12-17\n\nAttire: Casual\, wearing shades of pink\n\nPa
 rking Option: Information not provided. Please check with the event organi
 zer or venue for parking details.\n\nThis workshop aims to create a safe a
 nd supportive environment for teenage girls to explore topics related to m
 ental health\, wellness\, and self-care. Parents are encouraged to attend 
 a virtual zoom call prior to the event for safety and informational purpos
 es. Let's empower our young girls to prioritize their well-being and embra
 ce self-care practices.
ATTACH;FMTTYPE=image/jpeg:https://breatheatlanta.us/wp-content/uploads/202
 4/04/https___cdn.evbuc_.com_images_735286319_522550277971_1_original.jpg
CATEGORIES:Wellness Events
LOCATION:580 Fort St NE a\,   580 Fort Street Northeast #a Marietta\, \, GA
  \,  United States\, 30060\, GA \, United States
X-APPLE-STRUCTURED-LOCATION;VALUE=URI;X-ADDRESS=  580 Fort Street Northeast
  #a Marietta\, \, GA \,  United States\, 30060\, GA \, United States;X-APP
 LE-RADIUS=100;X-TITLE=580 Fort St NE a:geo:0,0
END:VEVENT
BEGIN:VTIMEZONE
TZID:America/New_York
X-LIC-LOCATION:America/New_York
BEGIN:DAYLIGHT
DTSTART:20240310T030000
TZOFFSETFROM:-0500
TZOFFSETTO:-0400
TZNAME:EDT
END:DAYLIGHT
END:VTIMEZONE
END:VCALENDAR