BEGIN:VCALENDAR
VERSION:2.0
PRODID:-//wp-events-plugin.com//7.2.3.1//EN
TZID:America/New_York
X-WR-TIMEZONE:America/New_York
BEGIN:VEVENT
UID:503@breatheatlanta.us
DTSTART;TZID=America/New_York:20241005T200000
DTEND;TZID=America/New_York:20241005T220000
DTSTAMP:20240928T063234Z
URL:https://breatheatlanta.us/events/strand-ole-opry-fa-boo-lous-halloween
 -hits/
SUMMARY:Strand Ole Opry: Fa-BOO-lous Halloween Hits
DESCRIPTION:The Strand Ole Opry is calling all country goblins and ghouls t
 o join in on a thrilling celebration filled with Fa-BOO-lous Halloween Hit
 s! This festive event promises an afternoon brimming with delightful music
 \, lively performances\, and good-natured fun for everyone.\n\nGuests can 
 expect a talented ensemble of musicians\, featuring banjo players\, uprigh
 t bassists\, fiddlers\, guitarists\, and perhaps even a washboard or two\,
  all coming together to create a spirited atmosphere. The Opry will showca
 se a variety of guest vocalists who will share their renditions of classic
  Halloween-themed songs\, ensuring that there is something for every music
 al taste.\n\nThe heart of the Strand Ole Opry experience lies in its rich 
 tradition of storytelling. The Opry hosts are renowned for their ability t
 o weave captivating tales that blend humor and Southern charm\, often embe
 llishing the truth for the sake of a good story. This unique blend of musi
 c and storytelling will create an enchanting atmosphere that is sure to en
 tertain audiences of all ages.\n\nAs the stage comes alive with a mix of H
 alloween spirit and country flair\, attendees will be invited to let loose
  and join in the festivities\, whether through toe-tapping dancing or sing
 ing along with their favorite tunes. The Fa-BOO-lous Halloween Hits celebr
 ation at the Strand Ole Opry promises to be an unforgettable experience fi
 lled with laughter\, music\, and the warmth of community.\n\nDon’t miss 
 out on this chance to celebrate Halloween in true country style\, where th
 e charm of Southern hospitality meets the thrill of spooky fun!\n\nGET TIC
 KETS\n
ATTACH;FMTTYPE=image/jpeg:https://breatheatlanta.us/wp-content/uploads/202
 4/09/Screenshot-2024-09-28-122942.png
CATEGORIES:Arts &amp; Performances,Things To Do
LOCATION:Earl and Rachel Smith Strand Theatre\, 117 North Park Square Marie
 tta\, Atlanta\, Georgia\, 30060\, GA\, United States
X-APPLE-STRUCTURED-LOCATION;VALUE=URI;X-ADDRESS=117 North Park Square Marie
 tta\, Atlanta\, Georgia\, 30060\, GA\, United States;X-APPLE-RADIUS=100;X-
 TITLE=Earl and Rachel Smith Strand Theatre:geo:0,0
END:VEVENT
BEGIN:VTIMEZONE
TZID:America/New_York
X-LIC-LOCATION:America/New_York
BEGIN:DAYLIGHT
DTSTART:20240310T030000
TZOFFSETFROM:-0500
TZOFFSETTO:-0400
TZNAME:EDT
END:DAYLIGHT
END:VTIMEZONE
END:VCALENDAR