BEGIN:VCALENDAR
VERSION:2.0
PRODID:-//wp-events-plugin.com//7.2.3.1//EN
TZID:America/New_York
X-WR-TIMEZONE:America/New_York
BEGIN:VEVENT
UID:453@breatheatlanta.us
DTSTART;TZID=America/New_York:20240929T100000
DTEND;TZID=America/New_York:20240929T113000
DTSTAMP:20240914T181946Z
URL:https://breatheatlanta.us/events/stretch-chil-jazzs-35th-celebration/
SUMMARY:STRETCH & CHIL: Jazz’s 35th Celebration
DESCRIPTION:Join us for STRETCH &amp\; CHIL\, the ultimate relaxation exper
 ience at Chil Studios\, as we celebrate Jasmine Cutler's (aka Coach Jazz\,
  aka Cudi) 35th birthday! This special event marks a moment of reflection 
 and renewal for Jazz as she embraces a new chapter of balance\, self-love\
 , and rejuvenation.\n\nAs she approaches this milestone\, Jazz invites you
  to celebrate with her in a uniquely restorative way. Through a combinatio
 n of gentle stretching\, mindful breathing\, and guided relaxation\, this 
 60-minute session will help you unwind and connect with your body on a dee
 per level. Designed for all experience levels\, the class is centered arou
 nd you—whether you're familiar with JNC Bodies' STRENGTH STRETCH classes
  or joining for the first time. It’s an opportunity to release tension\,
  improve flexibility\, and leave feeling refreshed.\n\nAdding to the sooth
 ing vibes\, DJ Boogie Lov will curate a lo-fi soundtrack to create the per
 fect atmosphere for this special occasion. This is more than just a workou
 t—it's an hour of self-care\, celebration\, and intention-setting.\n\nGi
 ving Back: In lieu of gifts\, Jazz has chosen to make this birthday about 
 community. 50% of all ticket proceeds will be donated to the National Alli
 ance on Mental Illness (NAMI)\, supporting a cause that is close to her he
 art.\n\nEvent Details:\n\n 	Date: Jazz’s 35th Birthday Celebration\n 	Lo
 cation: Chil Studios\, located in The MET—a tranquil\, serene studio spa
 ce perfect for this reflective event.\n 	What to Bring: Your yoga mat\, an
  open mind\, and the intention to relax.\n\nWhether you come solo or with 
 a friend\, this is the perfect way to wind down your month and set positiv
 e intentions for the one ahead. Celebrate life\, wellness\, and self-love 
 with Jazz in a way that nourishes both your body and soul.\n\nDon't miss o
 ut on this chance to Stretch &amp\; Chil and toast to Jazz's next chapter!
 \n\nGET TICKETS\n
ATTACH;FMTTYPE=image/jpeg:https://breatheatlanta.us/wp-content/uploads/202
 4/09/STRETCH-CHIL-Jazzs-35th-Celebration.jpg
CATEGORIES:Things To Do,Wellness Events
LOCATION:Chil Studios\, 680 Murphy Avenue Southwest #Suite 4001\, Atlanta\,
  Georgia\, 30310\, GA\, United States
X-APPLE-STRUCTURED-LOCATION;VALUE=URI;X-ADDRESS=680 Murphy Avenue Southwest
  #Suite 4001\, Atlanta\, Georgia\, 30310\, GA\, United States;X-APPLE-RADI
 US=100;X-TITLE=Chil Studios:geo:0,0
END:VEVENT
BEGIN:VTIMEZONE
TZID:America/New_York
X-LIC-LOCATION:America/New_York
BEGIN:DAYLIGHT
DTSTART:20240310T030000
TZOFFSETFROM:-0500
TZOFFSETTO:-0400
TZNAME:EDT
END:DAYLIGHT
END:VTIMEZONE
END:VCALENDAR