BEGIN:VCALENDAR
VERSION:2.0
PRODID:-//wp-events-plugin.com//7.2.3.1//EN
TZID:America/New_York
X-WR-TIMEZONE:America/New_York
BEGIN:VEVENT
UID:565@breatheatlanta.us
DTSTART;TZID=America/New_York:20241104T130000
DTEND;TZID=America/New_York:20241104T135500
DTSTAMP:20241008T150203Z
URL:https://breatheatlanta.us/events/stretch-class-with-dr-foster/
SUMMARY:Stretch Class With Dr. Foster
DESCRIPTION:Stretch Class with Dr. Foster offers an exceptional opportunity
  for those in the United States\, particularly in Georgia\, to enhance the
 ir physical well-being. Located in Atlanta\, this class is perfect for ind
 ividuals seeking health-focused activities and engaging things to do in th
 e city. Dr. Foster’s stretch class is designed to improve flexibility\, 
 reduce tension\, and promote overall wellness. Whether you are a local res
 ident or visiting Atlanta\, this class provides a great way to participate
  in a health-centered experience. Join others in the Atlanta community for
  this enriching fitness class\, where you’ll learn valuable techniques t
 o enhance your body's mobility and strength.\n\nGET TICKETS\n
ATTACH;FMTTYPE=image/jpeg:https://breatheatlanta.us/wp-content/uploads/202
 4/10/Stretch-Class-With-Dr.-Foster.jpeg
CATEGORIES:Yoga Events
LOCATION:777 Cleveland Ave SW suite 309\, 777 Cleveland Avenue Southwest\, 
 Los Angeles\, California\, 30315\, GA\, United States
X-APPLE-STRUCTURED-LOCATION;VALUE=URI;X-ADDRESS=777 Cleveland Avenue Southw
 est\, Los Angeles\, California\, 30315\, GA\, United States;X-APPLE-RADIUS
 =100;X-TITLE=777 Cleveland Ave SW suite 309:geo:0,0
END:VEVENT
BEGIN:VTIMEZONE
TZID:America/New_York
X-LIC-LOCATION:America/New_York
BEGIN:STANDARD
DTSTART:20241103T010000
TZOFFSETFROM:-0400
TZOFFSETTO:-0500
TZNAME:EST
END:STANDARD
END:VTIMEZONE
END:VCALENDAR