BEGIN:VCALENDAR
VERSION:2.0
PRODID:-//wp-events-plugin.com//7.2.3.1//EN
TZID:America/New_York
X-WR-TIMEZONE:America/New_York
BEGIN:VEVENT
UID:444@breatheatlanta.us
DTSTART;TZID=America/New_York:20240907T100000
DTEND;TZID=America/New_York:20240907T130000
DTSTAMP:20240904T062452Z
URL:https://breatheatlanta.us/events/string-art-the-universe-mandala/
SUMMARY:String Art "The Universe Mandala"
DESCRIPTION:The "Universe Mandala" string art class offers a transformative
  journey into the depths of spirituality and creativity\, guiding particip
 ants to connect with the 7th chakra—our gateway to the Higher Power\, th
 e Universe\, and the Creator. This mandala serves as a powerful symbol of 
 freedom and enlightenment\, reminding us that the vast universe resides wi
 thin our minds\, reflecting our profound connection with the world and the
  divine.\n\nThroughout this class\, participants will craft a visual repre
 sentation of the universe\, complete with outer space and galaxies\, using
  natural minerals to symbolize the planets. This artistic process not only
  deepens our understanding of the cosmos but also nurtures a sense of inne
 r peace and spiritual connection. As you weave the threads to form this in
 tricate mandala\, you’ll explore the boundless nature of the universe an
 d uncover the spiritual ties that bind us all.\n\nJoin this enlightening e
 xperience to create art that resonates with the cosmos and discover the de
 eper connections that exist within and beyond yourself.\n\nGET TICKETS\n
ATTACH;FMTTYPE=image/jpeg:https://breatheatlanta.us/wp-content/uploads/202
 4/09/String-Art-The-Universe-Mandala.jpg
CATEGORIES:Mindfulness Events,Things To Do,Wellness Events
LOCATION:Aum Studio for Wellness\, 11550 Webb Bridge Way #Suite B2 Alpharet
 ta\, GA 30005 United States\, GA \, United States\, 30005 \,  GA \, United
  States
X-APPLE-STRUCTURED-LOCATION;VALUE=URI;X-ADDRESS=11550 Webb Bridge Way #Suit
 e B2 Alpharetta\, GA 30005 United States\, GA \, United States\, 30005 \, 
  GA \, United States;X-APPLE-RADIUS=100;X-TITLE=Aum Studio for Wellness:ge
 o:0,0
END:VEVENT
BEGIN:VTIMEZONE
TZID:America/New_York
X-LIC-LOCATION:America/New_York
BEGIN:DAYLIGHT
DTSTART:20240310T030000
TZOFFSETFROM:-0500
TZOFFSETTO:-0400
TZNAME:EDT
END:DAYLIGHT
END:VTIMEZONE
END:VCALENDAR