BEGIN:VCALENDAR
VERSION:2.0
PRODID:-//wp-events-plugin.com//7.2.3.1//EN
TZID:America/New_York
X-WR-TIMEZONE:America/New_York
BEGIN:VEVENT
UID:410@breatheatlanta.us
DTSTART;TZID=America/New_York:20240817T090000
DTEND;TZID=America/New_York:20240817T123000
DTSTAMP:20240802T192706Z
URL:https://breatheatlanta.us/events/stroll-flow-hike-yoga-full-moon-exper
 ience/
SUMMARY:Stroll & Flow: Hike + Yoga Full Moon Experience
DESCRIPTION:Embark on a tranquil journey with the "Stroll &amp\; Flow: Full
  Moon Hike and Yoga Experience" at Yellow River Park\, a hidden gem in Sto
 ne Mountain\, GA. This enchanting evening begins with a peaceful walk alon
 g a scenic riverside trail\, covering approximately 1.5 miles. As the moon
 light bathes the landscape\, we'll transition to a grounding yoga session 
 to cool down and center the mind.\n\nThe yoga practice will be a yin style
 \, focusing on seated postures that promote cooling the body and achieving
  mental clarity\, leaving participants refreshed and ready for the week ah
 ead. Comfortable walking shoes are recommended\, along with a blanket or t
 owel\, yoga mat\, plenty of water\, and any other personal items to enhanc
 e relaxation.\n\nYellow River Park\, nestled east of Atlanta\, features ex
 pansive open spaces\, river entrances\, overlook docks\, and wooded equest
 rian and bike trails. This serene setting\, part of the 75-mile-long tribu
 tary of the Ocmulgee River\, offers the perfect backdrop for connecting wi
 th nature and finding inner peace.\n\nJoin us for an evening of mindful wa
 lking and rejuvenating yoga under the full moon\, and discover the tranqui
 lity and beauty of this hidden sanctuary.\n\nGET TICKETS\n
ATTACH;FMTTYPE=image/jpeg:https://breatheatlanta.us/wp-content/uploads/202
 4/08/Stroll-Flow-Hike-Yoga-full-moon-experience.jpg
CATEGORIES:Mindfulness Events,Retreats Events,Things To Do,Wellness
 Events,Yoga Events
LOCATION:Yellow River Park\, 3232 Juhan Road Southwest Stone Mountain\, Atl
 anta\, Georgia\, 30087\, GA\, United States
X-APPLE-STRUCTURED-LOCATION;VALUE=URI;X-ADDRESS=3232 Juhan Road Southwest S
 tone Mountain\, Atlanta\, Georgia\, 30087\, GA\, United States;X-APPLE-RAD
 IUS=100;X-TITLE=Yellow River Park:geo:0,0
END:VEVENT
BEGIN:VTIMEZONE
TZID:America/New_York
X-LIC-LOCATION:America/New_York
BEGIN:DAYLIGHT
DTSTART:20240310T030000
TZOFFSETFROM:-0500
TZOFFSETTO:-0400
TZNAME:EDT
END:DAYLIGHT
END:VTIMEZONE
END:VCALENDAR