BEGIN:VCALENDAR
VERSION:2.0
PRODID:-//wp-events-plugin.com//7.2.3.1//EN
TZID:America/New_York
X-WR-TIMEZONE:America/New_York
BEGIN:VEVENT
UID:556@breatheatlanta.us
DTSTART;TZID=America/New_York:20241022T113000
DTEND;TZID=America/New_York:20241022T183000
DTSTAMP:20241001T150527Z
URL:https://breatheatlanta.us/events/succulent-handmade-gnocchi-cooking-cl
 ass-by-cozymeal/
SUMMARY:Succulent Handmade Gnocchi - Cooking Class by Cozymeal
DESCRIPTION:Indulge in an unforgettable culinary adventure with Cozymeal's 
 upcoming Succulent Handmade Gnocchi cooking class\, hosted by the talented
  Chef Luana. This intimate 2.5-hour experience will guide participants thr
 ough the art of crafting perfect\, tender gnocchi from scratch\, using tra
 ditional techniques and fresh ingredients.\n\nUnder Chef Luana’s expert 
 guidance\, participants will discover how to make light and fluffy gnocchi
  that melt in your mouth\, elevating this classic Italian dish to a new le
 vel. From mixing and shaping the dough to preparing delectable sauces that
  complement the gnocchi\, every step will be covered in detail\, ensuring 
 you leave the class with the skills to recreate the dish at home.\n\nBut i
 t’s not just about learning—this immersive class also offers the joy o
 f community and connection. Gather around the chef’s table to savor a th
 ree-course meal that features your handmade gnocchi as the star of the sho
 w. Enjoy phenomenal food\, meet fellow food enthusiasts\, and soak in the 
 relaxed\, friendly atmosphere that makes Cozymeal’s classes so unique.\n
 What to Expect:\n\n 	Hands-On Learning: Gain practical\, hands-on experien
 ce crafting gnocchi from scratch.\n 	Expert Instruction: Benefit from Chef
  Luana’s culinary expertise and personalized guidance throughout the cla
 ss.\n 	Three-Course Meal: After cooking\, indulge in a three-course meal f
 eaturing your freshly prepared gnocchi\, along with other delicious dishes
 .\n 	Social Dining: Enjoy the company of fellow food lovers as you gather 
 around the chef’s table for a shared dining experience.\n\nWhether you'r
 e a seasoned cook or a complete beginner\, this class welcomes all skill l
 evels. It’s the perfect opportunity to expand your culinary repertoire\,
  enjoy great food\, and meet new people—all while having fun in the kitc
 hen.\n\nDon’t miss out on this opportunity to master the art of handmade
  gnocchi and enjoy a memorable evening of cooking and dining.\n\nGET TICKE
 TS\n
ATTACH;FMTTYPE=image/jpeg:https://breatheatlanta.us/wp-content/uploads/202
 4/10/Succulent-Handmade-Gnocchi-Cooking-Class-by-Cozymeal.jpeg
CATEGORIES:Food &amp; Drink Events
END:VEVENT
BEGIN:VTIMEZONE
TZID:America/New_York
X-LIC-LOCATION:America/New_York
BEGIN:DAYLIGHT
DTSTART:20240310T030000
TZOFFSETFROM:-0500
TZOFFSETTO:-0400
TZNAME:EDT
END:DAYLIGHT
END:VTIMEZONE
END:VCALENDAR