BEGIN:VCALENDAR
VERSION:2.0
PRODID:-//wp-events-plugin.com//7.2.3.1//EN
TZID:America/New_York
X-WR-TIMEZONE:America/New_York
BEGIN:VEVENT
UID:309@breatheatlanta.us
DTSTART;TZID=America/New_York:20240713T140000
DTEND;TZID=America/New_York:20240713T150000
DTSTAMP:20240626T185934Z
URL:https://breatheatlanta.us/events/sugar-and-spice-presents-soulstretch/
SUMMARY:Sugar and Spice Presents: Soul&Stretch!
DESCRIPTION:Sugar and Spice invites you to Soul&amp\;Stretch\, a unique eve
 nt designed to rejuvenate your mind\, body\, and soul. Set in the serene B
 ellyard\, West Midtown Garden Courtyard\, a Tribute Portfolio Hotel\, this
  event promises an afternoon of relaxation and renewal. Participants will 
 enjoy soulful music paired with invigorating yoga stretches\, creating a h
 armonious atmosphere that promotes well-being.\nEvent Details\n\n 	Locatio
 n: Bellyard\, West Midtown Garden Courtyard\, a Tribute Portfolio Hotel. T
 his beautiful and tranquil setting offers the perfect backdrop for an afte
 rnoon of self-care.\n 	Atmosphere: The event features a blend of soothing 
 beats and gentle yoga movements\, guiding attendees to a state of blissful
  relaxation. The soulful music enhances the yoga experience\, making it bo
 th relaxing and invigorating.\n 	Inclusivity: Soul&amp\;Stretch is designe
 d for everyone\, whether you are a seasoned yogi or a beginner. The sessio
 ns are adaptable to all skill levels\, ensuring that every participant can
  fully benefit from the experience.\n\nBenefits of Attending\n\n 	Mind and
  Body Rejuvenation: Engage in yoga stretches that help release tension\, i
 mprove flexibility\, and promote overall physical health.\n 	Mental Relaxa
 tion: The combination of soulful music and yoga creates a calming environm
 ent\, reducing stress and fostering mental clarity.\n 	Self-Care Opportuni
 ty: Dedicate an afternoon to yourself\, focusing on relaxation and rejuven
 ation in a supportive and peaceful setting.\n 	Community Connection: Meet 
 and connect with others who share an interest in health\, wellness\, and s
 oulful experiences.\n\nWhy Attend?\nAttending Soul&amp\;Stretch offers a u
 nique opportunity to unwind\, de-stress\, and recharge in a beautiful gard
 en courtyard setting. Whether you are looking to deepen your yoga practice
  or simply enjoy an afternoon of tranquility\, this event provides the per
 fect environment for self-care and relaxation. Don’t miss this chance to
  treat yourself to a day dedicated to your well-being. Mark your calendar 
 and join Sugar and Spice for an unforgettable Soul&amp\;Stretch experience
 .\n\nGET TICKETS\n
ATTACH;FMTTYPE=image/jpeg:https://breatheatlanta.us/wp-content/uploads/202
 4/06/Sugar-and-Spice-Presents-SoulStretch.jpg
CATEGORIES:Mindfulness Events,Wellness Events
LOCATION:Atlanta Curves Message\, 1099 Boulevard Southeast #STE 2111\, Atla
 nta\, Georgia\, 30310\, GA\, United States
X-APPLE-STRUCTURED-LOCATION;VALUE=URI;X-ADDRESS=1099 Boulevard Southeast #S
 TE 2111\, Atlanta\, Georgia\, 30310\, GA\, United States;X-APPLE-RADIUS=10
 0;X-TITLE=Atlanta Curves Message:geo:0,0
END:VEVENT
BEGIN:VTIMEZONE
TZID:America/New_York
X-LIC-LOCATION:America/New_York
BEGIN:DAYLIGHT
DTSTART:20240310T030000
TZOFFSETFROM:-0500
TZOFFSETTO:-0400
TZNAME:EDT
END:DAYLIGHT
END:VTIMEZONE
END:VCALENDAR