BEGIN:VCALENDAR
VERSION:2.0
PRODID:-//wp-events-plugin.com//7.2.3.1//EN
TZID:America/New_York
X-WR-TIMEZONE:America/New_York
BEGIN:VEVENT
UID:351@breatheatlanta.us
DTSTART;TZID=America/New_York:20240720T170000
DTEND;TZID=America/New_York:20240720T190000
DTSTAMP:20240627T121651Z
URL:https://breatheatlanta.us/events/summer-party/
SUMMARY:Summer Party
DESCRIPTION:\n\n\n\n\n\n\n\n\n\n\n\n\n\n\n\nStep into an enchanting evening
  fit for royalty at Alice in the Garden's Summer Party! This year's celebr
 ation\, themed "Alice’s Wonderland Returns\," invites guests to immerse 
 themselves in a whimsical world inspired by larger-than-life plant sculptu
 res featured in the blockbuster exhibition.\n\nPrepare to be mesmerized by
  a lineup of eclectic live music\, starting with the ethereal harpist Lisa
  Handman\, followed by the folk melodies of the Sweet Auburn Strings Band\
 , and culminating in the smooth jazz tunes of the Bourbon Brothers. DJ Wil
 l and the Mad Hatter will transform the Great Lawn into an Unbirthday Danc
 e Party\, ensuring non-stop fun and entertainment.\n\nThe festivities cont
 inue with a variety of enchanting activities. Guests can participate in Do
 uble Dutch Aerobics\, enjoy captivating ballet and hip-hop performances by
  the Huber Twins at the Robinson Gazebo\, and join in a tea blending demon
 stration by specialTEAS from Just Add Honey Tea Shop. For those with a swe
 et tooth\, delve into a regional honey tasting experience led by Olivia M.
  Menard\, Chief Executive Beekeeper at Brookfield Apiaries.\n\nArt enthusi
 asts can channel their creativity in a watercolor painting session with ar
 tist Jennifer Chiles amidst the blooming roses of the garden. Don't miss t
 he chance to explore the Garden's famous Tiny Door and Giant Tiny Door ins
 tallations\, celebrating the 10th anniversary with Karen Anderson Singer\,
  creator of Tiny Doors ATL.\n\nIndulge in culinary delights inspired by Al
 ice’s Wonderland at various Garden bars offering signature mocktails and
  craft cocktails. Treat your taste buds to a delicious array of dishes inc
 luding bacon-wrapped brats\, buttermilk chicken\, braised short rib sandwi
 ches\, wood-fired pizzas\, and sweet and savory crepes from Dulce &amp\; S
 abrosa\, Sunnyside Pizzeria\, and Vanilla Crepes. Cool down with handcraft
 ed gelato from Cremalosa\, Italian ice by Kona Ice\, and the beloved popsi
 cles from King of Pops.\n\nFor convenience\, rideshare users\, walkers\, a
 nd bikers receive a fast pass card for express entry and a complimentary s
 ignature mocktail\, A Golden Afternoon Peach Lemonade. Participation also 
 enters guests into a draw to win tickets to a future event at the Garden.\
 n\nDon't miss out on this unforgettable evening of music\, art\, gastronom
 y\, and whimsy at Alice in the Garden's Summer Party. Secure your spot now
  and experience a magical journey through Wonderland right here in Atlanta
 !\n\nGET TICKETS\n\n\n\n\n\n\n
ATTACH;FMTTYPE=image/jpeg:https://breatheatlanta.us/wp-content/uploads/202
 4/06/Screenshot-2024-06-19-123814.png
CATEGORIES:Arts &amp; Performances,Nature Events,Wellness Events
LOCATION:Atlanta Botanical Garden\, 1345 Piedmont Ave NE\, Atlanta\, Georgi
 a\, 30309\,  GA\, United States
X-APPLE-STRUCTURED-LOCATION;VALUE=URI;X-ADDRESS=1345 Piedmont Ave NE\, Atla
 nta\, Georgia\, 30309\,  GA\, United States;X-APPLE-RADIUS=100;X-TITLE=Atl
 anta Botanical Garden:geo:0,0
END:VEVENT
BEGIN:VTIMEZONE
TZID:America/New_York
X-LIC-LOCATION:America/New_York
BEGIN:DAYLIGHT
DTSTART:20240310T030000
TZOFFSETFROM:-0500
TZOFFSETTO:-0400
TZNAME:EDT
END:DAYLIGHT
END:VTIMEZONE
END:VCALENDAR