BEGIN:VCALENDAR
VERSION:2.0
PRODID:-//wp-events-plugin.com//7.2.3.1//EN
TZID:America/New_York
X-WR-TIMEZONE:America/New_York
BEGIN:VEVENT
UID:401@breatheatlanta.us
DTSTART;TZID=America/New_York;VALUE=DATE:20240810
DTEND;TZID=America/New_York;VALUE=DATE:20240811
DTSTAMP:20240802T091817Z
URL:https://breatheatlanta.us/events/summer-sizzler-atlanta/
SUMMARY:Summer Sizzler - Atlanta
DESCRIPTION:Get ready for the annual Atlanta Summer Sizzler\, a vibrant 5k/
 10k/15k event that promises fun for the entire family. Whether you're a se
 asoned runner or a casual participant\, this summer celebration is designe
 d to bring excitement and joy to everyone.\n\nEvent Highlights:\n\n 	Exclu
 sive Swag: Receive a designer race shirt and a custom medal as a token of 
 your accomplishment.\n 	Advanced Timing: Enjoy chip-timing with live resul
 ts and awards to track your performance.\n 	Free Photos: Capture your memo
 rable moments with complimentary race photos.\n 	Delicious Treats: Indulge
  in a variety of tasty treats waiting for you at the finish line.\n 	FREE 
 Kona Ice: Cool off with refreshing Kona Ice on us.\n 	Family Fun: Engage i
 n a host of activities that ensure a lively and entertaining experience fo
 r all.\n\nVirtual Option: Can't make it to the race in person? No worries!
  Our virtual race option allows you to participate from anywhere at any ti
 me\, with the same great swag and fun experience.\n\nBring your friends an
 d family to enjoy an unforgettable day of running\, celebration\, and comm
 unity spirit. Don't miss out on the Summer Sizzler—sign up today and be 
 part of the excitement.\n\nGET TICKETS\n
ATTACH;FMTTYPE=image/jpeg:https://breatheatlanta.us/wp-content/uploads/202
 4/08/Summer-Sizzler-Atlanta.png
CATEGORIES:Mindfulness Events,Sports &amp; Fitness Events,Things To
 Do,Wellness Events
LOCATION:Harbins Park\, 2995 Luke Edwards Rd\, Atlanta\, Georgia\, 30019\, 
 GA\, United States
X-APPLE-STRUCTURED-LOCATION;VALUE=URI;X-ADDRESS=2995 Luke Edwards Rd\, Atla
 nta\, Georgia\, 30019\, GA\, United States;X-APPLE-RADIUS=100;X-TITLE=Harb
 ins Park:geo:0,0
END:VEVENT
BEGIN:VTIMEZONE
TZID:America/New_York
X-LIC-LOCATION:America/New_York
BEGIN:DAYLIGHT
DTSTART:20240310T030000
TZOFFSETFROM:-0500
TZOFFSETTO:-0400
TZNAME:EDT
END:DAYLIGHT
END:VTIMEZONE
END:VCALENDAR