BEGIN:VCALENDAR
VERSION:2.0
PRODID:-//wp-events-plugin.com//7.2.3.1//EN
TZID:America/New_York
X-WR-TIMEZONE:America/New_York
BEGIN:VEVENT
UID:299@breatheatlanta.us
DTSTART;TZID=America/New_York:20240621T180000
DTEND;TZID=America/New_York:20240622T170000
DTSTAMP:20240526T171525Z
URL:https://breatheatlanta.us/events/summer-solstice-celebration/
SUMMARY:Summer Solstice Celebration
DESCRIPTION:Immerse yourself in a magical weekend dedicated to wellness and
  community at the Summer Solstice Celebration\, all while supporting TLC Y
 oga. Join us on Friday evening and all day Saturday for a rejuvenating min
 i retreat right in the heart of Atlanta.\nEvent Highlights:\n\n 	Yoga Clas
 ses: Experience a variety of yoga sessions led by talented local instructo
 rs.\n 	Sound Experiences: Dive into sound healing sessions designed to soo
 the and rejuvenate your mind and body.\n 	Community Gatherings: Connect wi
 th like-minded individuals and savor delicious food at our community event
 s.\n\nSchedule:\n\n 	Friday Evening: Kickstart the celebration with an arr
 ay of yoga classes and sound experiences.\n 	All Day Saturday: Enjoy a ful
 l day of wellness activities\, including more yoga sessions\, sound experi
 ences\, and community gatherings.\n\nThis is the perfect opportunity to re
 treat\, recharge\, and reconnect\, all while contributing to a worthy caus
 e. Don’t miss out on this unique event that blends relaxation\, communit
 y\, and support for TLC Yoga. Check the agenda for detailed dates and time
 s of each offering. See you there!\n\nGET TICKETS\n
ATTACH;FMTTYPE=image/jpeg:https://breatheatlanta.us/wp-content/uploads/202
 4/05/Summer-Solstice-Celebration.jpg
CATEGORIES:Yoga Events
LOCATION:Eastside Church ATL\, 468 Moreland Avenue Southeast Atlanta\, Atla
 nta\, Georgia\, 30316\, GA\, United States
X-APPLE-STRUCTURED-LOCATION;VALUE=URI;X-ADDRESS=468 Moreland Avenue Southea
 st Atlanta\, Atlanta\, Georgia\, 30316\, GA\, United States;X-APPLE-RADIUS
 =100;X-TITLE=Eastside Church ATL:geo:0,0
END:VEVENT
BEGIN:VTIMEZONE
TZID:America/New_York
X-LIC-LOCATION:America/New_York
BEGIN:DAYLIGHT
DTSTART:20240310T030000
TZOFFSETFROM:-0500
TZOFFSETTO:-0400
TZNAME:EDT
END:DAYLIGHT
END:VTIMEZONE
END:VCALENDAR