BEGIN:VCALENDAR
VERSION:2.0
PRODID:-//wp-events-plugin.com//7.2.3.1//EN
TZID:America/New_York
X-WR-TIMEZONE:America/New_York
BEGIN:VEVENT
UID:205@breatheatlanta.us
DTSTART;TZID=America/New_York:20240414T150000
DTEND;TZID=America/New_York:20240414T160000
DTSTAMP:20240401T091529Z
URL:https://breatheatlanta.us/events/sunday-reset-yoga-in-the-park/
SUMMARY:Sunday Reset - Yoga in the Park
DESCRIPTION:\n\n\n\n\n\n\n\n\n\n\n\n\nExperience a tranquil Sunday afternoo
 n yoga session in the park with us\, designed to reset and recharge you fo
 r the week ahead!\n\nEvent Information:\n\nEvent Name: Sunday Reset - Yoga
  in The Park\n\nDate and Time: Sunday\, April 14\, 3:00 PM - 4:00 PM EDT.\
 n\nLocation: The Beltline (Field next to the skatepark)\, Atlanta\, GA\, U
 nited States\n\nTicket Price: FREE\n\nAbout this Event: A rejuvenating Sun
 day afternoon yoga session in the park to reset and recharge for the week 
 ahead! Hosted by Organik Yoga\, this event welcomes both beginners and sea
 soned yogis to kickstart their week with peaceful yoga practice.\n\nWorkou
 t Session Detail:\n\nDuration: 1 hour\n\nFocus: Rejuvenating yoga session 
 to reset and recharge\n\nEssentials to Bring:\n\nYoga mat\n\nWater bottle\
 n\nPositive vibes\n\nParking Option: Available at The Beltline (Field next
  to the skatepark).\n\nAdditional Information: For any questions\, please 
 contact @plutomami on Instagram.\n\nReset and recharge for the upcoming we
 ek with a peaceful yoga session in the park. Bring your mat\, water bottle
 \, and positive energy.\n\n\n\n\n\n\n\n\n\n\n\n\n
ATTACH;FMTTYPE=image/jpeg:https://breatheatlanta.us/wp-content/uploads/202
 4/04/https___cdn.evbuc_.com_images_732111439_2082160646873_1_original.jpeg
CATEGORIES:Wellness Events,Yoga Events
LOCATION:The Beltline (Field\, Atlanta Atlanta\, GA United States\,  GA \, 
 United States\,  GA \, United States
X-APPLE-STRUCTURED-LOCATION;VALUE=URI;X-ADDRESS=Atlanta Atlanta\, GA United
  States\,  GA \, United States\,  GA \, United States;X-APPLE-RADIUS=100;X
 -TITLE=The Beltline (Field:geo:0,0
END:VEVENT
BEGIN:VTIMEZONE
TZID:America/New_York
X-LIC-LOCATION:America/New_York
BEGIN:DAYLIGHT
DTSTART:20240310T030000
TZOFFSETFROM:-0500
TZOFFSETTO:-0400
TZNAME:EDT
END:DAYLIGHT
END:VTIMEZONE
END:VCALENDAR