BEGIN:VCALENDAR
VERSION:2.0
PRODID:-//wp-events-plugin.com//7.2.3.1//EN
TZID:America/New_York
X-WR-TIMEZONE:America/New_York
BEGIN:VEVENT
UID:535@breatheatlanta.us
DTSTART;TZID=America/New_York:20241020T163000
DTEND;TZID=America/New_York:20241020T183000
DTSTAMP:20240930T130930Z
URL:https://breatheatlanta.us/events/sunset-sessions-lakeside-full-body-fl
 uid-yoga-x-sound-healing/
SUMMARY:Sunset Sessions: Lakeside Full-Body Fluid Yoga x Sound Healing
DESCRIPTION:Sunset Sessions: Lakeside Full-Body Fluid Yoga x Sound Healing 
 offers a tranquil and rejuvenating experience led by Ogechi of Chi Divinit
 y Yoga and Gleydy of Echoes of Tranquility. Set against the picturesque ba
 ckdrop of the Sope Creek Mountain Bike Trail's lake\, this event invites p
 articipants to connect with nature and themselves through a harmonious ble
 nd of movement\, breath\, and sound.\n\nDuring this immersive session\, at
 tendees will engage in a fluid sequence of Hatha and Vinyasa yoga designed
  to deepen their awareness of body alignment and cultivate a sense of inne
 r divinity. As they flow through their practice\, participants will have t
 he opportunity to meditate and embrace the healing vibrations of the lakes
 ide setting.\n\nAfter the yoga flow\, participants will relax on their mat
 s and be enveloped in the soothing sounds created by Gleydy’s quartz cry
 stal sound bowls\, healing instruments\, and intuitive singing. To enhance
  the healing experience\, Ogechi will conduct a smoke cleanse using incens
 e and sage\, creating a sacred atmosphere for all.\n\nThis bi-weekly in-pe
 rson event is perfect for those looking to elevate their yoga practice whi
 le rejuvenating their mind\, body\, and soul in a beautiful outdoor enviro
 nment. Don’t miss this opportunity to recharge and reconnect amidst the 
 calming embrace of nature."\n\nLet me know if you need any modifications!\
 n\nGET TICKETS\n
ATTACH;FMTTYPE=image/jpeg:https://breatheatlanta.us/wp-content/uploads/202
 4/09/Sunset-Sessions-Lakeside-Full-Body-Fluid-Yoga-x-Sound-Healing.jpg
CATEGORIES:Wellness Events
LOCATION:Sope Creek Mountain Bike Trail\, 3726 Paper Mill Road Southeast Ma
 rietta\, Atlanta\, Georgia\, 30067\, GA\, United States
X-APPLE-STRUCTURED-LOCATION;VALUE=URI;X-ADDRESS=3726 Paper Mill Road Southe
 ast Marietta\, Atlanta\, Georgia\, 30067\, GA\, United States;X-APPLE-RADI
 US=100;X-TITLE=Sope Creek Mountain Bike Trail:geo:0,0
END:VEVENT
BEGIN:VTIMEZONE
TZID:America/New_York
X-LIC-LOCATION:America/New_York
BEGIN:DAYLIGHT
DTSTART:20240310T030000
TZOFFSETFROM:-0500
TZOFFSETTO:-0400
TZNAME:EDT
END:DAYLIGHT
END:VTIMEZONE
END:VCALENDAR