BEGIN:VCALENDAR
VERSION:2.0
PRODID:-//wp-events-plugin.com//7.2.3.1//EN
TZID:America/New_York
X-WR-TIMEZONE:America/New_York
BEGIN:VEVENT
UID:22@breatheatlanta.us
DTSTART;TZID=America/New_York:20231006T180000
DTEND;TZID=America/New_York:20231006T220000
DTSTAMP:20230923T010701Z
URL:https://breatheatlanta.us/events/sunset-sound-bath/
SUMMARY:Sunset Sound Bath & Self Care Event! @Sior ATL
DESCRIPTION:Sunset Sound Bath &amp\; Self-Care Event!\n\n&nbsp\;\n\nJoin us
  for a sublime evening of serenity and personal wellness at Sior ATL. Imme
 rse yourself in the calming harmonies of a sound bath as the sun gracefull
 y descends\, conjuring a mystical ambiance. Allow the resonating melodies 
 of these instruments to cleanse away the burdens of stress and tension\, l
 eaving you utterly revitalized.\n\nYour ticket includes:\n\n 	Complimentar
 y Mimosa\n 	Delectable Appetizers\n 	Thoughtful Gift Bag\n 	Yoga Mat\n 	Pl
 ush Pillow\n 	Cozy Blanket\n 	Gentle Eye Mask\n 	Personal Notebook\n\n(We 
 kindly request that you wear Pink Yoga or workout attire)\n\nEvent Schedul
 e:\n\n6:00 pm - 6:30 pm: Socializing &amp\; Mingling\n\n6:30 pm - 7:30 pm:
  Immersive Sound Bath Session\n\n7:30 pm - 8:30 pm: Self-Care Bingo\, DIY 
 Facials\, and Massages\n\n8:30 pm - 10:00 pm: Pink Friday After Party at S
 ior ATL\n\nThis in-person gathering offers you the perfect opportunity to 
 prioritize self-pampering. Whether you're a seasoned sound bath aficionado
  or new to the practice\, this event warmly welcomes individuals of all ex
 perience levels. Let the harmonious melodies guide you into a state of pro
 found relaxation and inner tranquility.\n\nThroughout the gathering\, you'
 ll have the chance to connect with like-minded souls who share your passio
 n for self-care and holistic healing. Embrace this moment to unwind\, rech
 arge\, and nurture your mind\, body\, and spirit.\n\nDon't let this except
 ional experience pass you by! Secure your spot today and prepare to immers
 e yourself in the serene ambiance of our Sunset Sound Bath &amp\; Self-Car
 e Gathering!\n\n&nbsp\;\n\n\nAbout Sunset Sound Bath\n\nA Sunset Sound Bat
 h is a unique and immersive therapeutic experience that combines the sooth
 ing sounds of various musical instruments with the ambiance of watching th
 e sunset. It's a practice rooted in sound healing and meditation.\n\nDurin
 g a Sunset Sound Bath session\, participants typically gather in an outdoo
 r setting\, often near the beach or in a natural environment with a clear 
 view of the setting sun. The facilitator\, often a trained sound healer or
  musician\, uses a variety of instruments like crystal bowls\, Tibetan sin
 ging bowls\, gongs\, chimes\, drums\, and other percussion instruments to 
 create a harmonious and meditative soundscape.\n\nParticipants lie down or
  sit comfortably while absorbing the sound vibrations and letting go of st
 ress and tension. The goal is to induce a state of deep relaxation\, reduc
 e anxiety\, and promote inner peace. The combination of the calming music\
 , the natural beauty of the sunset\, and the therapeutic vibrations is int
 ended to create a serene and transformative experience.\n\nSunset Sound Ba
 ths are often seen as a way to connect with nature\, promote mindfulness\,
  and enhance well-being. They provide a unique opportunity to align with t
 he rhythm of the natural world and find inner balance and tranquility.\n\n
 Keep in mind that the specific practices and rituals associated with Sunse
 t Sound Baths may vary depending on the facilitator and location\, but the
  core concept revolves around combining the therapeutic power of sound wit
 h the beauty of a sunset.
ATTACH;FMTTYPE=image/jpeg:https://breatheatlanta.us/wp-content/uploads/202
 3/09/chrome_llYxJQS0XK.png
CATEGORIES:Mindfulness Events,Things To Do,Yoga Events
LOCATION:Sior ATL\, 1977 North Park Place\,  Southeast Atlanta\, Georgia\, 
 30339\, United States
X-APPLE-STRUCTURED-LOCATION;VALUE=URI;X-ADDRESS=1977 North Park Place\,  So
 utheast Atlanta\, Georgia\, 30339\, United States;X-APPLE-RADIUS=100;X-TIT
 LE=Sior ATL:geo:0,0
END:VEVENT
BEGIN:VTIMEZONE
TZID:America/New_York
X-LIC-LOCATION:America/New_York
BEGIN:DAYLIGHT
DTSTART:20230312T030000
TZOFFSETFROM:-0500
TZOFFSETTO:-0400
TZNAME:EDT
END:DAYLIGHT
END:VTIMEZONE
END:VCALENDAR