BEGIN:VCALENDAR
VERSION:2.0
PRODID:-//wp-events-plugin.com//7.2.3.1//EN
TZID:America/New_York
X-WR-TIMEZONE:America/New_York
BEGIN:VEVENT
UID:294@breatheatlanta.us
DTSTART;TZID=America/New_York:20240620T183000
DTEND;TZID=America/New_York:20240620T203000
DTSTAMP:20240525T182950Z
URL:https://breatheatlanta.us/events/sushi-rollin-101/
SUMMARY:Sushi Rollin' 101
DESCRIPTION:Join an engaging and interactive session to master the art of s
 ushi making with Sushi Rollin' 101! Learn everything from the essential eq
 uipment and preparation techniques to crafting perfect sushi rice and roll
 ing your own sushi. This hands-on class promises plenty of laughs and a de
 licious\, satisfying experience.\nWhat to Expect\n\n 	Comprehensive Lesson
 s: Discover the basics of sushi making\, including equipment usage\, prepa
 ration methods\, and the step-by-step process of creating a sushi roll.\n 
 	Interactive Experience: Participate in a fun and engaging environment\, i
 deal for beginners and enthusiasts alike.\n 	All You Can Eat: Enjoy unlimi
 ted sushi\, ensuring you leave with a full belly and a happy heart.\n 	Dri
 nk Included: Each participant receives one drink ticket to complement thei
 r sushi experience.\n\nDon’t miss this opportunity to learn\, laugh\, an
 d indulge in the art of sushi making!\n\nGET TICKETS\n
ATTACH;FMTTYPE=image/jpeg:https://breatheatlanta.us/wp-content/uploads/202
 4/05/Sushi-Rollin-101.jpg
LOCATION:Six Bridges Brewing\, 11455 Lakefield Drive #300 Johns Creek\, Atl
 anta\, Georgia\, 30097\, GA\, United States
X-APPLE-STRUCTURED-LOCATION;VALUE=URI;X-ADDRESS=11455 Lakefield Drive #300 
 Johns Creek\, Atlanta\, Georgia\, 30097\, GA\, United States;X-APPLE-RADIU
 S=100;X-TITLE=Six Bridges Brewing:geo:0,0
END:VEVENT
BEGIN:VTIMEZONE
TZID:America/New_York
X-LIC-LOCATION:America/New_York
BEGIN:DAYLIGHT
DTSTART:20240310T030000
TZOFFSETFROM:-0500
TZOFFSETTO:-0400
TZNAME:EDT
END:DAYLIGHT
END:VTIMEZONE
END:VCALENDAR